BEGIN:VCALENDAR
VERSION:2.0
PRODID:-//jEvents 2.0 for Joomla//EN
CALSCALE:GREGORIAN
METHOD:PUBLISH
BEGIN:VTIMEZONE
TZID:Europe/Berlin
BEGIN:STANDARD
DTSTART:20120227T170000
RDATE:20120325T030000
TZOFFSETFROM:+0200
TZOFFSETTO:+0100
TZNAME:Europe/Berlin CET
END:STANDARD
BEGIN:STANDARD
DTSTART:20121028T020000
RDATE:20130331T030000
TZOFFSETFROM:+0200
TZOFFSETTO:+0100
TZNAME:Europe/Berlin CET
END:STANDARD
BEGIN:STANDARD
DTSTART:20131027T020000
RDATE:20140330T030000
TZOFFSETFROM:+0200
TZOFFSETTO:+0100
TZNAME:Europe/Berlin CET
END:STANDARD
BEGIN:STANDARD
DTSTART:20141026T020000
RDATE:20150329T030000
TZOFFSETFROM:+0200
TZOFFSETTO:+0100
TZNAME:Europe/Berlin CET
END:STANDARD
BEGIN:STANDARD
DTSTART:20151025T020000
RDATE:20160327T030000
TZOFFSETFROM:+0200
TZOFFSETTO:+0100
TZNAME:Europe/Berlin CET
END:STANDARD
BEGIN:STANDARD
DTSTART:20161030T020000
RDATE:20170326T030000
TZOFFSETFROM:+0200
TZOFFSETTO:+0100
TZNAME:Europe/Berlin CET
END:STANDARD
BEGIN:STANDARD
DTSTART:20171029T020000
RDATE:20180325T030000
TZOFFSETFROM:+0200
TZOFFSETTO:+0100
TZNAME:Europe/Berlin CET
END:STANDARD
BEGIN:STANDARD
DTSTART:20181028T020000
RDATE:20190331T030000
TZOFFSETFROM:+0200
TZOFFSETTO:+0100
TZNAME:Europe/Berlin CET
END:STANDARD
BEGIN:STANDARD
DTSTART:20191027T020000
RDATE:20200329T030000
TZOFFSETFROM:+0200
TZOFFSETTO:+0100
TZNAME:Europe/Berlin CET
END:STANDARD
BEGIN:STANDARD
DTSTART:20201025T020000
RDATE:20210328T030000
TZOFFSETFROM:+0200
TZOFFSETTO:+0100
TZNAME:Europe/Berlin CET
END:STANDARD
BEGIN:DAYLIGHT
DTSTART:20120325T030000
RDATE:20121028T020000
TZOFFSETFROM:+0100
TZOFFSETTO:+0200
TZNAME:Europe/Berlin CEST
END:DAYLIGHT
BEGIN:DAYLIGHT
DTSTART:20130331T030000
RDATE:20131027T020000
TZOFFSETFROM:+0100
TZOFFSETTO:+0200
TZNAME:Europe/Berlin CEST
END:DAYLIGHT
BEGIN:DAYLIGHT
DTSTART:20140330T030000
RDATE:20141026T020000
TZOFFSETFROM:+0100
TZOFFSETTO:+0200
TZNAME:Europe/Berlin CEST
END:DAYLIGHT
BEGIN:DAYLIGHT
DTSTART:20150329T030000
RDATE:20151025T020000
TZOFFSETFROM:+0100
TZOFFSETTO:+0200
TZNAME:Europe/Berlin CEST
END:DAYLIGHT
BEGIN:DAYLIGHT
DTSTART:20160327T030000
RDATE:20161030T020000
TZOFFSETFROM:+0100
TZOFFSETTO:+0200
TZNAME:Europe/Berlin CEST
END:DAYLIGHT
BEGIN:DAYLIGHT
DTSTART:20170326T030000
RDATE:20171029T020000
TZOFFSETFROM:+0100
TZOFFSETTO:+0200
TZNAME:Europe/Berlin CEST
END:DAYLIGHT
BEGIN:DAYLIGHT
DTSTART:20180325T030000
RDATE:20181028T020000
TZOFFSETFROM:+0100
TZOFFSETTO:+0200
TZNAME:Europe/Berlin CEST
END:DAYLIGHT
BEGIN:DAYLIGHT
DTSTART:20190331T030000
RDATE:20191027T020000
TZOFFSETFROM:+0100
TZOFFSETTO:+0200
TZNAME:Europe/Berlin CEST
END:DAYLIGHT
BEGIN:DAYLIGHT
DTSTART:20200329T030000
RDATE:20201025T020000
TZOFFSETFROM:+0100
TZOFFSETTO:+0200
TZNAME:Europe/Berlin CEST
END:DAYLIGHT
END:VTIMEZONE
BEGIN:VEVENT
UID:5cc16609e24aeb3a771742db020b1b40
CATEGORIES:Rauchfrei-Programm
SUMMARY:Kurs Rauchfrei nach IFT Salzgitter
LOCATION:Saldersche Straße 3, 38226 Salzgitter 
DESCRIPTION;ENCODING=QUOTED-PRINTABLE:<h2>Der Programmablauf <br /></h2><p>Das Programm besteht aus drei bis   si
 eben Kursterminen in Gruppen mit bis zu 12 Teilnehmern und einer   individu
 ellen telefonischen Betreuung. Die Kursdurchführung erstreckt   sich je nac
 h Kursplanung über einen Zeitraum von 3 bis 7 Wochen.</p><p>   Im ersten Ab
 schnitt bereiten Sie sich intensiv auf den Rauchstopp vor.   Nach dem Rauch
 stopp wird im zweiten Abschnitt des Kurses Ihre Abstinenz   stabilisiert un
 d Sie erhalten vom Trainer eine individuelle  telefonische  Nachbetreuung. 
 Außerdem erhalten Sie ein Begleitheft, in  dem Sie die  Inhalte des Kurses 
 nachlesen können.</p><p><a href="http://gvbs.net/index.php/mitglieder.html"
 >Anmeldung über unsere Mitgliedspraxen</a> </p><p><a href="https://gvbs.net
 /index.php/component/content/article/13-news/95-projekt-rauchfrei.html">Inf
 ormationen zum Programm</a> </p><p>Veranstaltungsort </p><p> </p><p style="
 margin-bottom: 0cm"><font face="Arial, sans-serif"><font size="2">Raum der<
 /font></font><font face="Arial, sans-serif"><font size="2"><strong> </stron
 g></font></font><font face="Arial, sans-serif"><font size="2">Katholischen 
 Familienbildungsstätte, Saldersche Straße 3, neben St. Michael</font></font
 ></p> <p> </p>
DTSTAMP:20260420T114632Z
DTSTART;TZID=Europe/Berlin:20130227T170000
DTEND;TZID=Europe/Berlin:20130227T200000
SEQUENCE:0
TRANSP:OPAQUE
END:VEVENT
END:VCALENDAR