BEGIN:VCALENDAR
VERSION:2.0
PRODID:-//jEvents 2.0 for Joomla//EN
CALSCALE:GREGORIAN
METHOD:PUBLISH
BEGIN:VTIMEZONE
TZID:Europe/Berlin
BEGIN:STANDARD
DTSTART:20181028T020000
RDATE:20190331T030000
TZOFFSETFROM:+0200
TZOFFSETTO:+0100
TZNAME:Europe/Berlin CET
END:STANDARD
BEGIN:STANDARD
DTSTART:20191027T020000
RDATE:20200329T030000
TZOFFSETFROM:+0200
TZOFFSETTO:+0100
TZNAME:Europe/Berlin CET
END:STANDARD
BEGIN:STANDARD
DTSTART:20201025T020000
RDATE:20210328T030000
TZOFFSETFROM:+0200
TZOFFSETTO:+0100
TZNAME:Europe/Berlin CET
END:STANDARD
BEGIN:DAYLIGHT
DTSTART:20181022T190000
RDATE:20181028T020000
TZOFFSETFROM:+0100
TZOFFSETTO:+0200
TZNAME:Europe/Berlin CEST
END:DAYLIGHT
BEGIN:DAYLIGHT
DTSTART:20190331T030000
RDATE:20191027T020000
TZOFFSETFROM:+0100
TZOFFSETTO:+0200
TZNAME:Europe/Berlin CEST
END:DAYLIGHT
BEGIN:DAYLIGHT
DTSTART:20200329T030000
RDATE:20201025T020000
TZOFFSETFROM:+0100
TZOFFSETTO:+0200
TZNAME:Europe/Berlin CEST
END:DAYLIGHT
END:VTIMEZONE
BEGIN:VEVENT
UID:c9746b2a786263c94e9bd20a8a74c34d
CATEGORIES:Fortbildung
SUMMARY:14. Diabetes-Forum
LOCATION:Fourside Hotel
DESCRIPTION;ENCODING=QUOTED-PRINTABLE:<table style="height: 320px;" width="602"><tbody><tr><td style="text-align:
  center;" colspan="3"><strong><br /><br />Mittwoch, 23. Oktober 2019 15:00 
 - 22:00 Uhr</strong><br /><br /><br /></td></tr><tr><td style="vertical-ali
 gn: top;"><span style="text-decoration: underline;"><strong>Thema</strong><
 strong>:</strong></span></td><td colspan="2">14. Diabetes-Forum <br />Moder
 ne Diabetologie<br />-Diabetes und Geriatrie-<br /><br /><br /></td></tr><t
 r><td style="vertical-align: top;"><strong><span style="text-decoration: un
 derline;">Referenten:</span></strong></td><td colspan="2">Frau Susan Clever
 : Fachpsychologin (DDG) Psychodiabetologie<br />PD Dr. med. Matthias Frank:
  Diabetologe und Chefarzt Innere Medizin<br />Frau Gabriele Müller-Hunold: 
 Internistin mit Schwerpunkt Diabetologie</td></tr><tr><td>Fortbildungspunkt
 e :</td><td><span style="font-size: 8pt;">9   (Für Schulungspersonal 10 Pun
 kte) <br /></span></td><td> </td></tr><tr><td>DMP:</td><td>9</td><td> </td>
 </tr><tr><td> </td><td colspan="2"><strong>Anmeldung über den GVB Tel: 05 3
 1-612 86 62 Fax: 05 31-877 06 10</strong><br /><br /><br /></td></tr><tr><t
 d style="vertical-align: top;">Ort:</td><td colspan="2"><span style="color:
  #000000; font-size: 10pt;"><a href="https://www.google.com/maps/place/Four
 Side+Hotel+Braunschweig/@52.2659324,10.5219788,15z/data=!4m8!3m7!1s0x0:0xe8
 fc6e6c7de8fc14!5m2!4m1!1i2!8m2!3d52.2659324!4d10.5219788" target="_blank" r
 el="alternate">Fourside Hotel, Jöddenstr. 3, 38100 Braunschweig</a><br />Pa
 rkplätze in der Packhofpassage<br /></span></td></tr></tbody></table>
X-EXTRAINFO:Frau Tabke / Novonordisk
DTSTAMP:20260421T153636Z
DTSTART;TZID=Europe/Berlin:20191023T190000
DTEND;TZID=Europe/Berlin:20191023T220000
SEQUENCE:0
TRANSP:OPAQUE
END:VEVENT
END:VCALENDAR