BEGIN:VCALENDAR
VERSION:2.0
PRODID:-//jEvents 2.0 for Joomla//EN
CALSCALE:GREGORIAN
METHOD:PUBLISH
BEGIN:VTIMEZONE
TZID:Europe/Berlin
BEGIN:STANDARD
DTSTART:20161030T020000
RDATE:20170326T030000
TZOFFSETFROM:+0200
TZOFFSETTO:+0100
TZNAME:Europe/Berlin CET
END:STANDARD
BEGIN:STANDARD
DTSTART:20171029T020000
RDATE:20180325T030000
TZOFFSETFROM:+0200
TZOFFSETTO:+0100
TZNAME:Europe/Berlin CET
END:STANDARD
BEGIN:STANDARD
DTSTART:20181028T020000
RDATE:20190331T030000
TZOFFSETFROM:+0200
TZOFFSETTO:+0100
TZNAME:Europe/Berlin CET
END:STANDARD
BEGIN:STANDARD
DTSTART:20191027T020000
RDATE:20200329T030000
TZOFFSETFROM:+0200
TZOFFSETTO:+0100
TZNAME:Europe/Berlin CET
END:STANDARD
BEGIN:STANDARD
DTSTART:20201025T020000
RDATE:20210328T030000
TZOFFSETFROM:+0200
TZOFFSETTO:+0100
TZNAME:Europe/Berlin CET
END:STANDARD
BEGIN:DAYLIGHT
DTSTART:20160425T190000
RDATE:20161030T020000
TZOFFSETFROM:+0100
TZOFFSETTO:+0200
TZNAME:Europe/Berlin CEST
END:DAYLIGHT
BEGIN:DAYLIGHT
DTSTART:20170326T030000
RDATE:20171029T020000
TZOFFSETFROM:+0100
TZOFFSETTO:+0200
TZNAME:Europe/Berlin CEST
END:DAYLIGHT
BEGIN:DAYLIGHT
DTSTART:20180325T030000
RDATE:20181028T020000
TZOFFSETFROM:+0100
TZOFFSETTO:+0200
TZNAME:Europe/Berlin CEST
END:DAYLIGHT
BEGIN:DAYLIGHT
DTSTART:20190331T030000
RDATE:20191027T020000
TZOFFSETFROM:+0100
TZOFFSETTO:+0200
TZNAME:Europe/Berlin CEST
END:DAYLIGHT
BEGIN:DAYLIGHT
DTSTART:20200329T030000
RDATE:20201025T020000
TZOFFSETFROM:+0100
TZOFFSETTO:+0200
TZNAME:Europe/Berlin CEST
END:DAYLIGHT
END:VTIMEZONE
BEGIN:VEVENT
UID:157127920ec8b7e83b7221c1a2be65e6
CATEGORIES:Fortbildung
SUMMARY: Diabetes und Demenz
LOCATION:FOURSIDE HOTEL, Jöddenstraße 3, 38100 Braunschweig
DESCRIPTION;ENCODING=QUOTED-PRINTABLE:<p> <strong><span style="text-decoration: underline;">Thema:</span></strong
 ><strong>       Diabetes und Demenz</strong></p><p><strong><span style="tex
 t-decoration: underline;"> </span></strong><strong><span style="text-decora
 tion: underline;">Referent:</span></strong>   Dr. med. Christoph Axmann, In
 ternist, Diabetologe, Oberarzt der Privat-Nerven-Klinik, Dr. med. Kurt Font
 heim-Klinik in Liebenburg</p>Fortbildungspunkte : 4 Punkte<br /><p>DMP:    
                      4 Punkte Diabetes<br />                  </p>Anmeldung
  über den GVB Tel: 05 31-612 86 62 Fax: 05 31-877 06 10
X-EXTRAINFO:Herr Pietsch / Firma Lilly
DTSTAMP:20260424T063541Z
DTSTART;TZID=Europe/Berlin:20170426T190000
DTEND;TZID=Europe/Berlin:20170426T220000
SEQUENCE:0
TRANSP:OPAQUE
END:VEVENT
END:VCALENDAR