BEGIN:VCALENDAR
VERSION:2.0
PRODID:-//jEvents 2.0 for Joomla//EN
CALSCALE:GREGORIAN
METHOD:PUBLISH
BEGIN:VTIMEZONE
TZID:Europe/Berlin
BEGIN:STANDARD
DTSTART:20161030T020000
RDATE:20170326T030000
TZOFFSETFROM:+0200
TZOFFSETTO:+0100
TZNAME:Europe/Berlin CET
END:STANDARD
BEGIN:STANDARD
DTSTART:20171029T020000
RDATE:20180325T030000
TZOFFSETFROM:+0200
TZOFFSETTO:+0100
TZNAME:Europe/Berlin CET
END:STANDARD
BEGIN:STANDARD
DTSTART:20181028T020000
RDATE:20190331T030000
TZOFFSETFROM:+0200
TZOFFSETTO:+0100
TZNAME:Europe/Berlin CET
END:STANDARD
BEGIN:STANDARD
DTSTART:20191027T020000
RDATE:20200329T030000
TZOFFSETFROM:+0200
TZOFFSETTO:+0100
TZNAME:Europe/Berlin CET
END:STANDARD
BEGIN:STANDARD
DTSTART:20201025T020000
RDATE:20210328T030000
TZOFFSETFROM:+0200
TZOFFSETTO:+0100
TZNAME:Europe/Berlin CET
END:STANDARD
BEGIN:DAYLIGHT
DTSTART:20160613T190000
RDATE:20161030T020000
TZOFFSETFROM:+0100
TZOFFSETTO:+0200
TZNAME:Europe/Berlin CEST
END:DAYLIGHT
BEGIN:DAYLIGHT
DTSTART:20170326T030000
RDATE:20171029T020000
TZOFFSETFROM:+0100
TZOFFSETTO:+0200
TZNAME:Europe/Berlin CEST
END:DAYLIGHT
BEGIN:DAYLIGHT
DTSTART:20180325T030000
RDATE:20181028T020000
TZOFFSETFROM:+0100
TZOFFSETTO:+0200
TZNAME:Europe/Berlin CEST
END:DAYLIGHT
BEGIN:DAYLIGHT
DTSTART:20190331T030000
RDATE:20191027T020000
TZOFFSETFROM:+0100
TZOFFSETTO:+0200
TZNAME:Europe/Berlin CEST
END:DAYLIGHT
BEGIN:DAYLIGHT
DTSTART:20200329T030000
RDATE:20201025T020000
TZOFFSETFROM:+0100
TZOFFSETTO:+0200
TZNAME:Europe/Berlin CEST
END:DAYLIGHT
END:VTIMEZONE
BEGIN:VEVENT
UID:4ab68be8fa6df775c51cb79210a96533
CATEGORIES:Fortbildung
SUMMARY:Asthma- und COPD Update 2017
LOCATION:FOURSIDE HOTEL, Jöddenstraße 3, 38100 Braunschweig
DESCRIPTION;ENCODING=QUOTED-PRINTABLE:Thema:<strong>   Asthma- und COPD Update 2017</strong><br /><br /><strong><
 span style="text-decoration: underline;">Referent:</span></strong>   Dr. Sv
 en Löck - Facharzt für Innere Medizin, Kardiologe und Pneumologie<br /><br 
 /><p>Fortbildungspunkte :  4 Punkte<br />DMP:                           4 P
 unkte Asthma/COPD<br />                  </p>Anmeldung über den GVB Tel: 05
  31-612 86 62 Fax: 05 31-877 06 10
X-EXTRAINFO:Frau Büttner / Boehringer Ingelheim GmbH & Co. KG
DTSTAMP:20260424T113255Z
DTSTART;TZID=Europe/Berlin:20170614T190000
DTEND;TZID=Europe/Berlin:20170614T220000
SEQUENCE:0
TRANSP:OPAQUE
END:VEVENT
END:VCALENDAR