BEGIN:VCALENDAR
VERSION:2.0
PRODID:-//jEvents 2.0 for Joomla//EN
CALSCALE:GREGORIAN
METHOD:PUBLISH
BEGIN:VTIMEZONE
TZID:Europe/Berlin
BEGIN:STANDARD
DTSTART:20161030T020000
RDATE:20170326T030000
TZOFFSETFROM:+0200
TZOFFSETTO:+0100
TZNAME:Europe/Berlin CET
END:STANDARD
BEGIN:STANDARD
DTSTART:20171029T020000
RDATE:20180325T030000
TZOFFSETFROM:+0200
TZOFFSETTO:+0100
TZNAME:Europe/Berlin CET
END:STANDARD
BEGIN:STANDARD
DTSTART:20181028T020000
RDATE:20190331T030000
TZOFFSETFROM:+0200
TZOFFSETTO:+0100
TZNAME:Europe/Berlin CET
END:STANDARD
BEGIN:STANDARD
DTSTART:20191027T020000
RDATE:20200329T030000
TZOFFSETFROM:+0200
TZOFFSETTO:+0100
TZNAME:Europe/Berlin CET
END:STANDARD
BEGIN:STANDARD
DTSTART:20201025T020000
RDATE:20210328T030000
TZOFFSETFROM:+0200
TZOFFSETTO:+0100
TZNAME:Europe/Berlin CET
END:STANDARD
BEGIN:DAYLIGHT
DTSTART:20160926T190000
RDATE:20161030T020000
TZOFFSETFROM:+0100
TZOFFSETTO:+0200
TZNAME:Europe/Berlin CEST
END:DAYLIGHT
BEGIN:DAYLIGHT
DTSTART:20170326T030000
RDATE:20171029T020000
TZOFFSETFROM:+0100
TZOFFSETTO:+0200
TZNAME:Europe/Berlin CEST
END:DAYLIGHT
BEGIN:DAYLIGHT
DTSTART:20180325T030000
RDATE:20181028T020000
TZOFFSETFROM:+0100
TZOFFSETTO:+0200
TZNAME:Europe/Berlin CEST
END:DAYLIGHT
BEGIN:DAYLIGHT
DTSTART:20190331T030000
RDATE:20191027T020000
TZOFFSETFROM:+0100
TZOFFSETTO:+0200
TZNAME:Europe/Berlin CEST
END:DAYLIGHT
BEGIN:DAYLIGHT
DTSTART:20200329T030000
RDATE:20201025T020000
TZOFFSETFROM:+0100
TZOFFSETTO:+0200
TZNAME:Europe/Berlin CEST
END:DAYLIGHT
END:VTIMEZONE
BEGIN:VEVENT
UID:69a27066fcf1022f2a975b061cf9190a
CATEGORIES:Fortbildung
SUMMARY:Therapie des Typ 2 Diabetes- Fallbeispiele aus der Praxis
LOCATION:Löwenkrone-Restaurant in der Stadthalle, Leonhardplatz, 38102 Braunschweig,
   Tel.: 0531/70707-0  Gebührenfreies Parken !
DESCRIPTION;ENCODING=QUOTED-PRINTABLE:<pre><strong><span style="font-size: 10pt; font-family: 'Arial','sans-serif
 ';">Thema : Therapie des Typ 2 Diabetes- Fallbeispiele aus der Praxis</span
 ></strong></pre><strong><span style="text-decoration: underline;">Referent:
 </span></strong>      Herr Dr. med. Christian Burczyk, Diabetologe in Wolfe
 nbüttel<br /><p>Fortbildungspunkte :  4 Punkte<br />DMP:                   
         3 Punkte Diabetes/Typ2<br />                   </p>Anmeldung über d
 en GVB Tel: 05 31-612 86 62 Fax: 05 31-877 06 10
X-EXTRAINFO:Herr Bozic- msd
DTSTAMP:20260424T164538Z
DTSTART;TZID=Europe/Berlin:20170927T190000
DTEND;TZID=Europe/Berlin:20170927T220000
SEQUENCE:0
TRANSP:OPAQUE
END:VEVENT
END:VCALENDAR