BEGIN:VCALENDAR
VERSION:2.0
PRODID:-//jEvents 2.0 for Joomla//EN
CALSCALE:GREGORIAN
METHOD:PUBLISH
BEGIN:VTIMEZONE
TZID:Europe/Berlin
BEGIN:STANDARD
DTSTART:20161030T020000
RDATE:20170326T030000
TZOFFSETFROM:+0200
TZOFFSETTO:+0100
TZNAME:Europe/Berlin CET
END:STANDARD
BEGIN:STANDARD
DTSTART:20171029T020000
RDATE:20180325T030000
TZOFFSETFROM:+0200
TZOFFSETTO:+0100
TZNAME:Europe/Berlin CET
END:STANDARD
BEGIN:STANDARD
DTSTART:20181028T020000
RDATE:20190331T030000
TZOFFSETFROM:+0200
TZOFFSETTO:+0100
TZNAME:Europe/Berlin CET
END:STANDARD
BEGIN:STANDARD
DTSTART:20191027T020000
RDATE:20200329T030000
TZOFFSETFROM:+0200
TZOFFSETTO:+0100
TZNAME:Europe/Berlin CET
END:STANDARD
BEGIN:STANDARD
DTSTART:20201025T020000
RDATE:20210328T030000
TZOFFSETFROM:+0200
TZOFFSETTO:+0100
TZNAME:Europe/Berlin CET
END:STANDARD
BEGIN:DAYLIGHT
DTSTART:20160912T190000
RDATE:20161030T020000
TZOFFSETFROM:+0100
TZOFFSETTO:+0200
TZNAME:Europe/Berlin CEST
END:DAYLIGHT
BEGIN:DAYLIGHT
DTSTART:20170326T030000
RDATE:20171029T020000
TZOFFSETFROM:+0100
TZOFFSETTO:+0200
TZNAME:Europe/Berlin CEST
END:DAYLIGHT
BEGIN:DAYLIGHT
DTSTART:20180325T030000
RDATE:20181028T020000
TZOFFSETFROM:+0100
TZOFFSETTO:+0200
TZNAME:Europe/Berlin CEST
END:DAYLIGHT
BEGIN:DAYLIGHT
DTSTART:20190331T030000
RDATE:20191027T020000
TZOFFSETFROM:+0100
TZOFFSETTO:+0200
TZNAME:Europe/Berlin CEST
END:DAYLIGHT
BEGIN:DAYLIGHT
DTSTART:20200329T030000
RDATE:20201025T020000
TZOFFSETFROM:+0100
TZOFFSETTO:+0200
TZNAME:Europe/Berlin CEST
END:DAYLIGHT
END:VTIMEZONE
BEGIN:VEVENT
UID:dc728b5193793902d7be25fd182bac87
CATEGORIES:Fortbildung
SUMMARY:Thema:  	Update Typ 2 Diabetes Neue Erkenntnisse der internationalen Kongresse DDG Hamburg und ADA San Diego
LOCATION:FOURSIDE HOTEL, Jöddenstraße 3, 38100 Braunschweig
DESCRIPTION;ENCODING=QUOTED-PRINTABLE:\n\nThema:   Update Typ 2 Diabetes\n Neue Erkenntnisse der internationalen 
 Kongresse DDG Hamburg und ADA San Diego\n\n\n\nReferent:      Dr. med. Elma
 r Jäckel- Klinik für Gastroenterologie, Hepatologie Medizinische Hochschule
  Hannover\n\n\n \nFortbildungspunkte :  4 Punkte\n\n\nDMP:                 
           4 Punkte Diabetes/Typ2\n                  \nAnmeldung über den GV
 B Tel: 05 31-612 86 62 Fax: 05 31-877 06 10
X-EXTRAINFO:Herr Stürzenhofecker / AstraZeneca
DTSTAMP:20260424T163920Z
DTSTART;TZID=Europe/Berlin:20170913T190000
DTEND;TZID=Europe/Berlin:20170913T220000
SEQUENCE:0
TRANSP:OPAQUE
END:VEVENT
END:VCALENDAR