BEGIN:VCALENDAR
VERSION:2.0
PRODID:-//jEvents 2.0 for Joomla//EN
CALSCALE:GREGORIAN
METHOD:PUBLISH
BEGIN:VTIMEZONE
TZID:Europe/Berlin
BEGIN:STANDARD
DTSTART:20160317T090000
RDATE:20160327T030000
TZOFFSETFROM:+0200
TZOFFSETTO:+0100
TZNAME:Europe/Berlin CET
END:STANDARD
BEGIN:STANDARD
DTSTART:20161030T020000
RDATE:20170326T030000
TZOFFSETFROM:+0200
TZOFFSETTO:+0100
TZNAME:Europe/Berlin CET
END:STANDARD
BEGIN:STANDARD
DTSTART:20171029T020000
RDATE:20180325T030000
TZOFFSETFROM:+0200
TZOFFSETTO:+0100
TZNAME:Europe/Berlin CET
END:STANDARD
BEGIN:STANDARD
DTSTART:20181028T020000
RDATE:20190331T030000
TZOFFSETFROM:+0200
TZOFFSETTO:+0100
TZNAME:Europe/Berlin CET
END:STANDARD
BEGIN:STANDARD
DTSTART:20191027T020000
RDATE:20200329T030000
TZOFFSETFROM:+0200
TZOFFSETTO:+0100
TZNAME:Europe/Berlin CET
END:STANDARD
BEGIN:STANDARD
DTSTART:20201025T020000
RDATE:20210328T030000
TZOFFSETFROM:+0200
TZOFFSETTO:+0100
TZNAME:Europe/Berlin CET
END:STANDARD
BEGIN:DAYLIGHT
DTSTART:20160327T030000
RDATE:20161030T020000
TZOFFSETFROM:+0100
TZOFFSETTO:+0200
TZNAME:Europe/Berlin CEST
END:DAYLIGHT
BEGIN:DAYLIGHT
DTSTART:20170326T030000
RDATE:20171029T020000
TZOFFSETFROM:+0100
TZOFFSETTO:+0200
TZNAME:Europe/Berlin CEST
END:DAYLIGHT
BEGIN:DAYLIGHT
DTSTART:20180325T030000
RDATE:20181028T020000
TZOFFSETFROM:+0100
TZOFFSETTO:+0200
TZNAME:Europe/Berlin CEST
END:DAYLIGHT
BEGIN:DAYLIGHT
DTSTART:20190331T030000
RDATE:20191027T020000
TZOFFSETFROM:+0100
TZOFFSETTO:+0200
TZNAME:Europe/Berlin CEST
END:DAYLIGHT
BEGIN:DAYLIGHT
DTSTART:20200329T030000
RDATE:20201025T020000
TZOFFSETFROM:+0100
TZOFFSETTO:+0200
TZNAME:Europe/Berlin CEST
END:DAYLIGHT
END:VTIMEZONE
BEGIN:VEVENT
UID:8e864405a8d460ba7bbb5d255f1bad39
CATEGORIES:Fortbildung
SUMMARY:Thema: Interdisziplinäres Symposium – Diabetologie | Kardiologie | Pneumologie | Onkologie
LOCATION:FOURSIDE HOTEL, Jöddenstraße 3, 38100 Braunschweig
DESCRIPTION;ENCODING=QUOTED-PRINTABLE:\n\n Thema: Interdisziplinäres Symposium – Diabetologie | Kardiologie | Pne
 umologie | Onkologie\nReferenten:\n\nCA Prof. Dr. med. Matthias Heintzen, M
 edizinische Klinik II Braunschweig\n Prof. Dr. med. habil. Jens Schreiber, 
 Klinikdirektor, Universitätsklinik für Pneumologie Magdeburg\n Priv.-Doz. D
 r. med. Jens Aberle, Sektion Endokrinologie und Diabetologie, Universitätsk
 linikum Hamburg-E.\n Hans-Joachim Lembcke, Facharzt für Innere Medizin, End
 okrinologie und Diabetologie, Braunschweig\n Dr. med. Alexander Rixe, Facha
 rzt für Innere Medizin und Kardiologie Braunschweig\n A Dr. Jörg Hohmann, F
 achanwalt für Medizinrecht, Hamburg\n\n\n\n Programm:\n\n\n09:00 Uhr Begrüß
 ung und Moderation des Symposiums, Prof. Dr. med. M. Heintzen\n 09:05 Uhr K
 ardiovaskuläre Risikooptimierung bei Typ-2-Diabetes, Priv.-Doz. Dr. med. J.
  Aberle\n 09:40 Uhr Zeitenwende in der Therapie des Typ-2-Diabetes, H.-J. L
 embcke\n 10:10 Uhr Diskussion\n 10:20 Uhr Update des ACS aus klinischer Sic
 ht – Was ändert sich in 2017? Prof. Dr. med. M. Heintzen\n 10:55 Uhr Update
  des ACS aus Sicht des niedergelassenen Kardiologen, Dr. med. A. Rixe\n 11:
 25 Uhr Diskussion\n 11:35 Uhr Mittagspause\n 12:05 Uhr Aktuelle Behandlungs
 ansätze von COPD und Asthma, Prof. Dr. med. habil. J. Schreiber\n 12:40 Uhr
  Update Lungenkarzinom, Prof. Dr. med. habil. J. Schreiber\n 13:10 Uhr Disk
 ussion\n 13:20 Uhr Ist der Zugang zu modernen Therapien für meine Patienten
  sichergestellt? –\n                  Gute Patientenversorgung – die Rahmen
 bedingungen für Arzneimittelverordnungen\n                  in der KVN, RA 
 Dr. J. Hohmann\n 14:00 Uhr Diskussion, Evaluierung und Verabschiedung, Prof
 . Dr. med. M. Heintzen\n 14:30 Uhr Ende der Veranstaltung\n\nFortbildungspu
 nkte :  7 Punkte\n\n\nDMP:                           2KHK, 2Diabetes/Typ2, 
 1Asthma/COPD\nAnmeldung über den GVB Tel: 05 31-612 86 62 Fax: 05 31-877 06
  10
X-EXTRAINFO:Frau Schröder / AstraZeneca
DTSTAMP:20260424T042439Z
DTSTART;TZID=Europe/Berlin:20170318T090000
DTEND;TZID=Europe/Berlin:20170318T140000
SEQUENCE:0
TRANSP:OPAQUE
END:VEVENT
END:VCALENDAR