BEGIN:VCALENDAR
VERSION:2.0
PRODID:-//jEvents 2.0 for Joomla//EN
CALSCALE:GREGORIAN
METHOD:PUBLISH
BEGIN:VTIMEZONE
TZID:Europe/Berlin
BEGIN:STANDARD
DTSTART:20160307T190000
RDATE:20160327T030000
TZOFFSETFROM:+0200
TZOFFSETTO:+0100
TZNAME:Europe/Berlin CET
END:STANDARD
BEGIN:STANDARD
DTSTART:20161030T020000
RDATE:20170326T030000
TZOFFSETFROM:+0200
TZOFFSETTO:+0100
TZNAME:Europe/Berlin CET
END:STANDARD
BEGIN:STANDARD
DTSTART:20171029T020000
RDATE:20180325T030000
TZOFFSETFROM:+0200
TZOFFSETTO:+0100
TZNAME:Europe/Berlin CET
END:STANDARD
BEGIN:STANDARD
DTSTART:20181028T020000
RDATE:20190331T030000
TZOFFSETFROM:+0200
TZOFFSETTO:+0100
TZNAME:Europe/Berlin CET
END:STANDARD
BEGIN:STANDARD
DTSTART:20191027T020000
RDATE:20200329T030000
TZOFFSETFROM:+0200
TZOFFSETTO:+0100
TZNAME:Europe/Berlin CET
END:STANDARD
BEGIN:STANDARD
DTSTART:20201025T020000
RDATE:20210328T030000
TZOFFSETFROM:+0200
TZOFFSETTO:+0100
TZNAME:Europe/Berlin CET
END:STANDARD
BEGIN:DAYLIGHT
DTSTART:20160327T030000
RDATE:20161030T020000
TZOFFSETFROM:+0100
TZOFFSETTO:+0200
TZNAME:Europe/Berlin CEST
END:DAYLIGHT
BEGIN:DAYLIGHT
DTSTART:20170326T030000
RDATE:20171029T020000
TZOFFSETFROM:+0100
TZOFFSETTO:+0200
TZNAME:Europe/Berlin CEST
END:DAYLIGHT
BEGIN:DAYLIGHT
DTSTART:20180325T030000
RDATE:20181028T020000
TZOFFSETFROM:+0100
TZOFFSETTO:+0200
TZNAME:Europe/Berlin CEST
END:DAYLIGHT
BEGIN:DAYLIGHT
DTSTART:20190331T030000
RDATE:20191027T020000
TZOFFSETFROM:+0100
TZOFFSETTO:+0200
TZNAME:Europe/Berlin CEST
END:DAYLIGHT
BEGIN:DAYLIGHT
DTSTART:20200329T030000
RDATE:20201025T020000
TZOFFSETFROM:+0100
TZOFFSETTO:+0200
TZNAME:Europe/Berlin CEST
END:DAYLIGHT
END:VTIMEZONE
BEGIN:VEVENT
UID:b81f1a64848060a6a56459a0d4e65899
CATEGORIES:Fortbildung
SUMMARY:Update Eisenmangel bei Herzinsuffizienz - ESC-Guidelines 2016
LOCATION:FOURSIDE HOTEL, Jöddenstraße 3, 38100 Braunschweig
DESCRIPTION;ENCODING=QUOTED-PRINTABLE:Thema:   Update Eisenmangel bei Herzinsuffizienz - ESC-Guidelines 2016\n\nR
 eferent:   Herr Prof. Dr. med Bjoern Andrew Remppis, CA  der Abteilung Inte
 rventionelle Kardiologie im Herz- und Gefässzentrum Bad Bevensen\n \n \n\n\
 nFortbildungspunkte :  4 Punkte\nDMP:                           -----------
 \n                  \nAnmeldung über den GVB Tel: 05 31-612 86 62 Fax: 05 3
 1-877 06 10
X-EXTRAINFO:Frau Andersson / Vifor Pharma
DTSTAMP:20260424T042615Z
DTSTART;TZID=Europe/Berlin:20170308T190000
DTEND;TZID=Europe/Berlin:20170308T220000
SEQUENCE:0
TRANSP:OPAQUE
END:VEVENT
END:VCALENDAR