BEGIN:VCALENDAR
VERSION:2.0
PRODID:-//jEvents 2.0 for Joomla//EN
CALSCALE:GREGORIAN
METHOD:PUBLISH
BEGIN:VTIMEZONE
TZID:Europe/Berlin
BEGIN:STANDARD
DTSTART:20151025T020000
RDATE:20160327T030000
TZOFFSETFROM:+0200
TZOFFSETTO:+0100
TZNAME:Europe/Berlin CET
END:STANDARD
BEGIN:STANDARD
DTSTART:20161030T020000
RDATE:20170326T030000
TZOFFSETFROM:+0200
TZOFFSETTO:+0100
TZNAME:Europe/Berlin CET
END:STANDARD
BEGIN:STANDARD
DTSTART:20171029T020000
RDATE:20180325T030000
TZOFFSETFROM:+0200
TZOFFSETTO:+0100
TZNAME:Europe/Berlin CET
END:STANDARD
BEGIN:STANDARD
DTSTART:20181028T020000
RDATE:20190331T030000
TZOFFSETFROM:+0200
TZOFFSETTO:+0100
TZNAME:Europe/Berlin CET
END:STANDARD
BEGIN:STANDARD
DTSTART:20191027T020000
RDATE:20200329T030000
TZOFFSETFROM:+0200
TZOFFSETTO:+0100
TZNAME:Europe/Berlin CET
END:STANDARD
BEGIN:STANDARD
DTSTART:20201025T020000
RDATE:20210328T030000
TZOFFSETFROM:+0200
TZOFFSETTO:+0100
TZNAME:Europe/Berlin CET
END:STANDARD
BEGIN:DAYLIGHT
DTSTART:20150817T184500
RDATE:20151025T020000
TZOFFSETFROM:+0100
TZOFFSETTO:+0200
TZNAME:Europe/Berlin CEST
END:DAYLIGHT
BEGIN:DAYLIGHT
DTSTART:20160327T030000
RDATE:20161030T020000
TZOFFSETFROM:+0100
TZOFFSETTO:+0200
TZNAME:Europe/Berlin CEST
END:DAYLIGHT
BEGIN:DAYLIGHT
DTSTART:20170326T030000
RDATE:20171029T020000
TZOFFSETFROM:+0100
TZOFFSETTO:+0200
TZNAME:Europe/Berlin CEST
END:DAYLIGHT
BEGIN:DAYLIGHT
DTSTART:20180325T030000
RDATE:20181028T020000
TZOFFSETFROM:+0100
TZOFFSETTO:+0200
TZNAME:Europe/Berlin CEST
END:DAYLIGHT
BEGIN:DAYLIGHT
DTSTART:20190331T030000
RDATE:20191027T020000
TZOFFSETFROM:+0100
TZOFFSETTO:+0200
TZNAME:Europe/Berlin CEST
END:DAYLIGHT
BEGIN:DAYLIGHT
DTSTART:20200329T030000
RDATE:20201025T020000
TZOFFSETFROM:+0100
TZOFFSETTO:+0200
TZNAME:Europe/Berlin CEST
END:DAYLIGHT
END:VTIMEZONE
BEGIN:VEVENT
UID:2992306ecfa23a0ddc911828e389f06b
CATEGORIES:Fortbildung
SUMMARY:Diabetes und Herz - Therapieentscheidungen fürs Herz
LOCATION:Löwenkrone-Restaurant in der Stadthalle, Leonhardplatz, 38102 Braunschweig,
   Tel.: 0531/70707-0  Gebührenfreies Parken !
DESCRIPTION;ENCODING=QUOTED-PRINTABLE:in der Zeit von 18.45 Uhr bis 22:00 Uhr\n\n\nThema :  Diabetes und Herz - T
 herapieentscheidungen fürs Herz\n\nReferenten:  1.) Dr. med. Hans-Joachim L
 embcke, Braunschweig  - Kardialen Risikofaktoren bei Typ 2 Diabetes multimo
 dal begegnen\n                      2.) Prof. Dr. med. Arnd Schaefer, Hanno
 ver - Ist nach dem Infarkt vor dem Infarkt? Hochrisikopatienten erkennen un
 d behandeln\n                 \n\n\nFortbildungspunkte :  4 Punkte\nDMP:   
                         geeignet für KHK und Diabetes Typ2\nAnmeldung über 
 den GVB Tel: 05 31-612 86 62 Fax: 05 31-877 06 10
X-EXTRAINFO:Frau Schröder / AstraZeneca
DTSTAMP:20260423T154429Z
DTSTART;TZID=Europe/Berlin:20160817T184500
DTEND;TZID=Europe/Berlin:20160817T220000
SEQUENCE:0
TRANSP:OPAQUE
END:VEVENT
END:VCALENDAR