BEGIN:VCALENDAR
VERSION:2.0
PRODID:-//jEvents 2.0 for Joomla//EN
CALSCALE:GREGORIAN
METHOD:PUBLISH
BEGIN:VTIMEZONE
TZID:Europe/Berlin
BEGIN:STANDARD
DTSTART:20151207T190000
RDATE:20160327T030000
TZOFFSETFROM:+0200
TZOFFSETTO:+0100
TZNAME:Europe/Berlin CET
END:STANDARD
BEGIN:STANDARD
DTSTART:20161030T020000
RDATE:20170326T030000
TZOFFSETFROM:+0200
TZOFFSETTO:+0100
TZNAME:Europe/Berlin CET
END:STANDARD
BEGIN:STANDARD
DTSTART:20171029T020000
RDATE:20180325T030000
TZOFFSETFROM:+0200
TZOFFSETTO:+0100
TZNAME:Europe/Berlin CET
END:STANDARD
BEGIN:STANDARD
DTSTART:20181028T020000
RDATE:20190331T030000
TZOFFSETFROM:+0200
TZOFFSETTO:+0100
TZNAME:Europe/Berlin CET
END:STANDARD
BEGIN:STANDARD
DTSTART:20191027T020000
RDATE:20200329T030000
TZOFFSETFROM:+0200
TZOFFSETTO:+0100
TZNAME:Europe/Berlin CET
END:STANDARD
BEGIN:STANDARD
DTSTART:20201025T020000
RDATE:20210328T030000
TZOFFSETFROM:+0200
TZOFFSETTO:+0100
TZNAME:Europe/Berlin CET
END:STANDARD
BEGIN:DAYLIGHT
DTSTART:20160327T030000
RDATE:20161030T020000
TZOFFSETFROM:+0100
TZOFFSETTO:+0200
TZNAME:Europe/Berlin CEST
END:DAYLIGHT
BEGIN:DAYLIGHT
DTSTART:20170326T030000
RDATE:20171029T020000
TZOFFSETFROM:+0100
TZOFFSETTO:+0200
TZNAME:Europe/Berlin CEST
END:DAYLIGHT
BEGIN:DAYLIGHT
DTSTART:20180325T030000
RDATE:20181028T020000
TZOFFSETFROM:+0100
TZOFFSETTO:+0200
TZNAME:Europe/Berlin CEST
END:DAYLIGHT
BEGIN:DAYLIGHT
DTSTART:20190331T030000
RDATE:20191027T020000
TZOFFSETFROM:+0100
TZOFFSETTO:+0200
TZNAME:Europe/Berlin CEST
END:DAYLIGHT
BEGIN:DAYLIGHT
DTSTART:20200329T030000
RDATE:20201025T020000
TZOFFSETFROM:+0100
TZOFFSETTO:+0200
TZNAME:Europe/Berlin CEST
END:DAYLIGHT
END:VTIMEZONE
BEGIN:VEVENT
UID:5792ba1e64c208887a1ce0aee13a2b24
CATEGORIES:Fortbildung
SUMMARY:Das Herz des älteren Patienten - KHK Schlaganfallprophylaxe
LOCATION:Steigenberger Parkhotel Braunschweig, Numes-Straße 2, 38100 Braunschweig
DESCRIPTION;ENCODING=QUOTED-PRINTABLE:Thema: Das Herz des älteren Patienten - KHK Schlaganfallprophylaxe\n\nRefer
 enten:    Herr Dr. med. Ajmal Gardiwal,  Kardiologe in Hannover – Vortrag 1
         \n                           Herr Prof. Dr. Martin Haditsch,  Facha
 rzt für Laboratoriumsmedizin - Vortrag 2 \n\n\n\nFortbildungspunkte :  4 Pu
 nkte\nDMP:                           4 Punkte KHK\nAnmeldung über den GVB T
 el: 05 31-612 86 62 Fax: 05 31-877 06 10
X-EXTRAINFO:Herr Zadran / Pfizer
DTSTAMP:20260423T224218Z
DTSTART;TZID=Europe/Berlin:20161207T190000
DTEND;TZID=Europe/Berlin:20161207T220000
SEQUENCE:0
TRANSP:OPAQUE
END:VEVENT
END:VCALENDAR