BEGIN:VCALENDAR
VERSION:2.0
PRODID:-//jEvents 2.0 for Joomla//EN
CALSCALE:GREGORIAN
METHOD:PUBLISH
BEGIN:VTIMEZONE
TZID:Europe/Berlin
BEGIN:STANDARD
DTSTART:20151026T180000
RDATE:20160327T030000
TZOFFSETFROM:+0200
TZOFFSETTO:+0100
TZNAME:Europe/Berlin CET
END:STANDARD
BEGIN:STANDARD
DTSTART:20161030T020000
RDATE:20170326T030000
TZOFFSETFROM:+0200
TZOFFSETTO:+0100
TZNAME:Europe/Berlin CET
END:STANDARD
BEGIN:STANDARD
DTSTART:20171029T020000
RDATE:20180325T030000
TZOFFSETFROM:+0200
TZOFFSETTO:+0100
TZNAME:Europe/Berlin CET
END:STANDARD
BEGIN:STANDARD
DTSTART:20181028T020000
RDATE:20190331T030000
TZOFFSETFROM:+0200
TZOFFSETTO:+0100
TZNAME:Europe/Berlin CET
END:STANDARD
BEGIN:STANDARD
DTSTART:20191027T020000
RDATE:20200329T030000
TZOFFSETFROM:+0200
TZOFFSETTO:+0100
TZNAME:Europe/Berlin CET
END:STANDARD
BEGIN:STANDARD
DTSTART:20201025T020000
RDATE:20210328T030000
TZOFFSETFROM:+0200
TZOFFSETTO:+0100
TZNAME:Europe/Berlin CET
END:STANDARD
BEGIN:DAYLIGHT
DTSTART:20160327T030000
RDATE:20161030T020000
TZOFFSETFROM:+0100
TZOFFSETTO:+0200
TZNAME:Europe/Berlin CEST
END:DAYLIGHT
BEGIN:DAYLIGHT
DTSTART:20170326T030000
RDATE:20171029T020000
TZOFFSETFROM:+0100
TZOFFSETTO:+0200
TZNAME:Europe/Berlin CEST
END:DAYLIGHT
BEGIN:DAYLIGHT
DTSTART:20180325T030000
RDATE:20181028T020000
TZOFFSETFROM:+0100
TZOFFSETTO:+0200
TZNAME:Europe/Berlin CEST
END:DAYLIGHT
BEGIN:DAYLIGHT
DTSTART:20190331T030000
RDATE:20191027T020000
TZOFFSETFROM:+0100
TZOFFSETTO:+0200
TZNAME:Europe/Berlin CEST
END:DAYLIGHT
BEGIN:DAYLIGHT
DTSTART:20200329T030000
RDATE:20201025T020000
TZOFFSETFROM:+0100
TZOFFSETTO:+0200
TZNAME:Europe/Berlin CEST
END:DAYLIGHT
END:VTIMEZONE
BEGIN:VEVENT
UID:265187c3109a04ab06bc8ae3657704d6
CATEGORIES:Fortbildung
SUMMARY:COPD / Asthma
LOCATION:FOURSIDE HOTEL, Jöddenstraße 3, 38100 Braunschweig
DESCRIPTION;ENCODING=QUOTED-PRINTABLE:<p><strong><span style="text-decoration: underline;">Thema:</span></strong>
 <strong>   </strong><strong>Asthma bronchiale oder COPD, Beispiele aus der 
 Praxis inkl. Schlaflabor<br /> <br /> </strong></p><p><strong><span style="
 text-decoration: underline;">Referenten:</span></strong>   <strong>Vortrag 
 1:  Dr. med. Mark Voss-Dirks -</strong> Facharzt für Innere Medizin / Pneum
 ologe</p><p><strong>                         Vortrag 2:  Frau Dr. med. Urte
  Sommerwerck  -  </strong>Chefärztin der Abteilung Innere Medizin & Pneumol
 ogie im St. Vinzenz Krankenhaus in Braunschweig</p><p> </p>Fortbildungspunk
 te :  4 Punkte<br /><p>DMP:                          </p>Anmeldung über den
  GVB Tel: 05 31-612 86 62 Fax: 05 31-877 06 10
X-EXTRAINFO:Herr Scholz / TEVA
DTSTAMP:20260423T192555Z
DTSTART;TZID=Europe/Berlin:20161026T190000
DTEND;TZID=Europe/Berlin:20161026T220000
SEQUENCE:0
TRANSP:OPAQUE
END:VEVENT
END:VCALENDAR