BEGIN:VCALENDAR
VERSION:2.0
PRODID:-//jEvents 2.0 for Joomla//EN
CALSCALE:GREGORIAN
METHOD:PUBLISH
BEGIN:VTIMEZONE
TZID:Europe/Berlin
BEGIN:STANDARD
DTSTART:20151025T020000
RDATE:20160327T030000
TZOFFSETFROM:+0200
TZOFFSETTO:+0100
TZNAME:Europe/Berlin CET
END:STANDARD
BEGIN:STANDARD
DTSTART:20161030T020000
RDATE:20170326T030000
TZOFFSETFROM:+0200
TZOFFSETTO:+0100
TZNAME:Europe/Berlin CET
END:STANDARD
BEGIN:STANDARD
DTSTART:20171029T020000
RDATE:20180325T030000
TZOFFSETFROM:+0200
TZOFFSETTO:+0100
TZNAME:Europe/Berlin CET
END:STANDARD
BEGIN:STANDARD
DTSTART:20181028T020000
RDATE:20190331T030000
TZOFFSETFROM:+0200
TZOFFSETTO:+0100
TZNAME:Europe/Berlin CET
END:STANDARD
BEGIN:STANDARD
DTSTART:20191027T020000
RDATE:20200329T030000
TZOFFSETFROM:+0200
TZOFFSETTO:+0100
TZNAME:Europe/Berlin CET
END:STANDARD
BEGIN:STANDARD
DTSTART:20201025T020000
RDATE:20210328T030000
TZOFFSETFROM:+0200
TZOFFSETTO:+0100
TZNAME:Europe/Berlin CET
END:STANDARD
BEGIN:DAYLIGHT
DTSTART:20150511T190000
RDATE:20151025T020000
TZOFFSETFROM:+0100
TZOFFSETTO:+0200
TZNAME:Europe/Berlin CEST
END:DAYLIGHT
BEGIN:DAYLIGHT
DTSTART:20160327T030000
RDATE:20161030T020000
TZOFFSETFROM:+0100
TZOFFSETTO:+0200
TZNAME:Europe/Berlin CEST
END:DAYLIGHT
BEGIN:DAYLIGHT
DTSTART:20170326T030000
RDATE:20171029T020000
TZOFFSETFROM:+0100
TZOFFSETTO:+0200
TZNAME:Europe/Berlin CEST
END:DAYLIGHT
BEGIN:DAYLIGHT
DTSTART:20180325T030000
RDATE:20181028T020000
TZOFFSETFROM:+0100
TZOFFSETTO:+0200
TZNAME:Europe/Berlin CEST
END:DAYLIGHT
BEGIN:DAYLIGHT
DTSTART:20190331T030000
RDATE:20191027T020000
TZOFFSETFROM:+0100
TZOFFSETTO:+0200
TZNAME:Europe/Berlin CEST
END:DAYLIGHT
BEGIN:DAYLIGHT
DTSTART:20200329T030000
RDATE:20201025T020000
TZOFFSETFROM:+0100
TZOFFSETTO:+0200
TZNAME:Europe/Berlin CEST
END:DAYLIGHT
END:VTIMEZONE
BEGIN:VEVENT
UID:7a7410ca03d4ee72cc9f9fb8b4e0197d
CATEGORIES:Fortbildung
SUMMARY:Update 2016 NOAK-Therapie: Wohin geht die Entwicklung?
LOCATION:Waldhaus Oelper, Am Ölper Holze 1, 38116 Braunschweig, Tel.: 05 31-25 62 50
DESCRIPTION;ENCODING=QUOTED-PRINTABLE:Thema:   Update 2016 NOAK-Therapie:    Wohin geht die Entwicklung?\n\n \nRe
 ferenten:   Dr. Wolfgang Eberl Leitender Abteilungsarzt / Hämostaseologie- 
 Leiter Gerinnungsambulanz Klinikum Holwedestraße – Vortrag 1\n\n           
             Mazen Abu-Mugheisib Oberarzt Stroke Unit u. Neurologische Inten
 sivstation - Klinik für Neurologie Klinikum Salzdahlumer Straße - Vortrag 2
 \n\n\n\nFortbildungspunkte :  sind beantragt\nDMP:                         
   sind beantragt \n\n\nAnmeldung über den GVB Tel: 05 31-612 86 62 Fax: 05 
 31-877 06 10
X-EXTRAINFO:Frau Nievergall // Boehringer 
DTSTAMP:20260423T101629Z
DTSTART;TZID=Europe/Berlin:20160511T190000
DTEND;TZID=Europe/Berlin:20160511T220000
SEQUENCE:0
TRANSP:OPAQUE
END:VEVENT
END:VCALENDAR