BEGIN:VCALENDAR
VERSION:2.0
PRODID:-//jEvents 2.0 for Joomla//EN
CALSCALE:GREGORIAN
METHOD:PUBLISH
BEGIN:VTIMEZONE
TZID:Europe/Berlin
BEGIN:STANDARD
DTSTART:20151025T020000
RDATE:20160327T030000
TZOFFSETFROM:+0200
TZOFFSETTO:+0100
TZNAME:Europe/Berlin CET
END:STANDARD
BEGIN:STANDARD
DTSTART:20161030T020000
RDATE:20170326T030000
TZOFFSETFROM:+0200
TZOFFSETTO:+0100
TZNAME:Europe/Berlin CET
END:STANDARD
BEGIN:STANDARD
DTSTART:20171029T020000
RDATE:20180325T030000
TZOFFSETFROM:+0200
TZOFFSETTO:+0100
TZNAME:Europe/Berlin CET
END:STANDARD
BEGIN:STANDARD
DTSTART:20181028T020000
RDATE:20190331T030000
TZOFFSETFROM:+0200
TZOFFSETTO:+0100
TZNAME:Europe/Berlin CET
END:STANDARD
BEGIN:STANDARD
DTSTART:20191027T020000
RDATE:20200329T030000
TZOFFSETFROM:+0200
TZOFFSETTO:+0100
TZNAME:Europe/Berlin CET
END:STANDARD
BEGIN:STANDARD
DTSTART:20201025T020000
RDATE:20210328T030000
TZOFFSETFROM:+0200
TZOFFSETTO:+0100
TZNAME:Europe/Berlin CET
END:STANDARD
BEGIN:DAYLIGHT
DTSTART:20150914T190000
RDATE:20151025T020000
TZOFFSETFROM:+0100
TZOFFSETTO:+0200
TZNAME:Europe/Berlin CEST
END:DAYLIGHT
BEGIN:DAYLIGHT
DTSTART:20160327T030000
RDATE:20161030T020000
TZOFFSETFROM:+0100
TZOFFSETTO:+0200
TZNAME:Europe/Berlin CEST
END:DAYLIGHT
BEGIN:DAYLIGHT
DTSTART:20170326T030000
RDATE:20171029T020000
TZOFFSETFROM:+0100
TZOFFSETTO:+0200
TZNAME:Europe/Berlin CEST
END:DAYLIGHT
BEGIN:DAYLIGHT
DTSTART:20180325T030000
RDATE:20181028T020000
TZOFFSETFROM:+0100
TZOFFSETTO:+0200
TZNAME:Europe/Berlin CEST
END:DAYLIGHT
BEGIN:DAYLIGHT
DTSTART:20190331T030000
RDATE:20191027T020000
TZOFFSETFROM:+0100
TZOFFSETTO:+0200
TZNAME:Europe/Berlin CEST
END:DAYLIGHT
BEGIN:DAYLIGHT
DTSTART:20200329T030000
RDATE:20201025T020000
TZOFFSETFROM:+0100
TZOFFSETTO:+0200
TZNAME:Europe/Berlin CEST
END:DAYLIGHT
END:VTIMEZONE
BEGIN:VEVENT
UID:e1c9a247053e726a25b4b3e7bdcf5819
CATEGORIES:Fortbildung
SUMMARY:Therapie des kardiovaskulären Hochrisiko-Patienten in der Sekundärprävention
LOCATION:FOURSIDE HOTEL, (ehem. Mövenpick) Jöddenstraße 3, 38100 Braunschweig
DESCRIPTION;ENCODING=QUOTED-PRINTABLE:<span style="font-size: 10pt;">Thema: </span><strong><span style="font-size
 : 10pt;">Therapie des kardiovaskulären Hochrisiko-Patienten in der Sekundär
 prävention</span><br /></strong><br /><p>Prof. Dr. med. G. Klose – ehem. Ch
 efarzt Innere Medizin-Klinikum Weser – <em>Vortrag 1</em></p><p>Prof. Dr. m
 ed. K. Wahle – Facharzt für Innere und Allgemeinmedizin, Diabetologe -- <em
 >Vortrag 2 </em>                       </p><p> </p><p><strong>Vortrag  1: <
 /strong> Den kardiovaskulären Hochrisiko-Patienten kennen und klassifiziere
 n</p><p><strong>Vortrag  2:</strong>  Nach einem akutem koronaren Ereignis 
 – was ist zu tun / was ist unerlässlich</p><br /><p>Fortbildungspunkte :  4
  Punkte<br />DMP:                          geeignet für KHK/Diabetes2</p>An
 meldung über den GVB Tel: 05 31-612 86 62 Fax: 05 31-877 06 10
X-EXTRAINFO:Frau Wagener / MSD
DTSTAMP:20260423T173646Z
DTSTART;TZID=Europe/Berlin:20160914T190000
DTEND;TZID=Europe/Berlin:20160914T220000
SEQUENCE:0
TRANSP:OPAQUE
END:VEVENT
END:VCALENDAR