BEGIN:VCALENDAR
VERSION:2.0
PRODID:-//jEvents 2.0 for Joomla//EN
CALSCALE:GREGORIAN
METHOD:PUBLISH
BEGIN:VTIMEZONE
TZID:Europe/Berlin
BEGIN:STANDARD
DTSTART:20151025T020000
RDATE:20160327T030000
TZOFFSETFROM:+0200
TZOFFSETTO:+0100
TZNAME:Europe/Berlin CET
END:STANDARD
BEGIN:STANDARD
DTSTART:20161030T020000
RDATE:20170326T030000
TZOFFSETFROM:+0200
TZOFFSETTO:+0100
TZNAME:Europe/Berlin CET
END:STANDARD
BEGIN:STANDARD
DTSTART:20171029T020000
RDATE:20180325T030000
TZOFFSETFROM:+0200
TZOFFSETTO:+0100
TZNAME:Europe/Berlin CET
END:STANDARD
BEGIN:STANDARD
DTSTART:20181028T020000
RDATE:20190331T030000
TZOFFSETFROM:+0200
TZOFFSETTO:+0100
TZNAME:Europe/Berlin CET
END:STANDARD
BEGIN:STANDARD
DTSTART:20191027T020000
RDATE:20200329T030000
TZOFFSETFROM:+0200
TZOFFSETTO:+0100
TZNAME:Europe/Berlin CET
END:STANDARD
BEGIN:STANDARD
DTSTART:20201025T020000
RDATE:20210328T030000
TZOFFSETFROM:+0200
TZOFFSETTO:+0100
TZNAME:Europe/Berlin CET
END:STANDARD
BEGIN:DAYLIGHT
DTSTART:20150420T160000
RDATE:20151025T020000
TZOFFSETFROM:+0100
TZOFFSETTO:+0200
TZNAME:Europe/Berlin CEST
END:DAYLIGHT
BEGIN:DAYLIGHT
DTSTART:20160327T030000
RDATE:20161030T020000
TZOFFSETFROM:+0100
TZOFFSETTO:+0200
TZNAME:Europe/Berlin CEST
END:DAYLIGHT
BEGIN:DAYLIGHT
DTSTART:20170326T030000
RDATE:20171029T020000
TZOFFSETFROM:+0100
TZOFFSETTO:+0200
TZNAME:Europe/Berlin CEST
END:DAYLIGHT
BEGIN:DAYLIGHT
DTSTART:20180325T030000
RDATE:20181028T020000
TZOFFSETFROM:+0100
TZOFFSETTO:+0200
TZNAME:Europe/Berlin CEST
END:DAYLIGHT
BEGIN:DAYLIGHT
DTSTART:20190331T030000
RDATE:20191027T020000
TZOFFSETFROM:+0100
TZOFFSETTO:+0200
TZNAME:Europe/Berlin CEST
END:DAYLIGHT
BEGIN:DAYLIGHT
DTSTART:20200329T030000
RDATE:20201025T020000
TZOFFSETFROM:+0100
TZOFFSETTO:+0200
TZNAME:Europe/Berlin CEST
END:DAYLIGHT
END:VTIMEZONE
BEGIN:VEVENT
UID:ad20b036e72c9b25402b07cac054393a
CATEGORIES:Fortbildung
SUMMARY:„KV-Abrechnung für die Hausärzte: Neue Budgets ohne Fallzahlbezug zum Vorjahr – wer gewinnt, wer verliert ?“   
LOCATION: Seminarräume des GVB, John-F.-Kennedy-Platz 9, 38100 Braunschweig
DESCRIPTION;ENCODING=QUOTED-PRINTABLE:NUR FÜR MITGLIEDER\n\nThema: „KV-Abrechnung für die Hausärzte:  Neue Budget
 s ohne Fallzahlbezug zum Vorjahr – wer gewinnt, wer verliert ?“\n\n \n\n - 
   Programm:    16:00 Uhr                 Begrüßung\n                       
  16:10 – 17:00 Uhr     Abrechnungsbeispiele zum jeweiligen Thema  \n       
                  17:00 – 17:30 Uhr     Diskussion und Fragen \n\n\n\n\nWich
 tig!!!!  - Verbindliche Anmeldung, da begrenzte Teilnehmeranzahl !!!\n     
                       \n Fortbildungspunkte :  keine\n\nAnmeldung über den 
 GVB Tel: 05 31-612 86 62 Fax: 05 31-877 06 10
X-EXTRAINFO:Herr Eberhard Drewitz -  AAC Niedersachsen
DTSTAMP:20260423T082144Z
DTSTART;TZID=Europe/Berlin:20160420T160000
DTEND;TZID=Europe/Berlin:20160420T173000
SEQUENCE:0
TRANSP:OPAQUE
END:VEVENT
END:VCALENDAR