BEGIN:VCALENDAR
VERSION:2.0
PRODID:-//jEvents 2.0 for Joomla//EN
CALSCALE:GREGORIAN
METHOD:PUBLISH
BEGIN:VTIMEZONE
TZID:Europe/Berlin
BEGIN:STANDARD
DTSTART:20150302T190000
RDATE:20150329T030000
TZOFFSETFROM:+0200
TZOFFSETTO:+0100
TZNAME:Europe/Berlin CET
END:STANDARD
BEGIN:STANDARD
DTSTART:20151025T020000
RDATE:20160327T030000
TZOFFSETFROM:+0200
TZOFFSETTO:+0100
TZNAME:Europe/Berlin CET
END:STANDARD
BEGIN:STANDARD
DTSTART:20161030T020000
RDATE:20170326T030000
TZOFFSETFROM:+0200
TZOFFSETTO:+0100
TZNAME:Europe/Berlin CET
END:STANDARD
BEGIN:STANDARD
DTSTART:20171029T020000
RDATE:20180325T030000
TZOFFSETFROM:+0200
TZOFFSETTO:+0100
TZNAME:Europe/Berlin CET
END:STANDARD
BEGIN:STANDARD
DTSTART:20181028T020000
RDATE:20190331T030000
TZOFFSETFROM:+0200
TZOFFSETTO:+0100
TZNAME:Europe/Berlin CET
END:STANDARD
BEGIN:STANDARD
DTSTART:20191027T020000
RDATE:20200329T030000
TZOFFSETFROM:+0200
TZOFFSETTO:+0100
TZNAME:Europe/Berlin CET
END:STANDARD
BEGIN:STANDARD
DTSTART:20201025T020000
RDATE:20210328T030000
TZOFFSETFROM:+0200
TZOFFSETTO:+0100
TZNAME:Europe/Berlin CET
END:STANDARD
BEGIN:DAYLIGHT
DTSTART:20150329T030000
RDATE:20151025T020000
TZOFFSETFROM:+0100
TZOFFSETTO:+0200
TZNAME:Europe/Berlin CEST
END:DAYLIGHT
BEGIN:DAYLIGHT
DTSTART:20160327T030000
RDATE:20161030T020000
TZOFFSETFROM:+0100
TZOFFSETTO:+0200
TZNAME:Europe/Berlin CEST
END:DAYLIGHT
BEGIN:DAYLIGHT
DTSTART:20170326T030000
RDATE:20171029T020000
TZOFFSETFROM:+0100
TZOFFSETTO:+0200
TZNAME:Europe/Berlin CEST
END:DAYLIGHT
BEGIN:DAYLIGHT
DTSTART:20180325T030000
RDATE:20181028T020000
TZOFFSETFROM:+0100
TZOFFSETTO:+0200
TZNAME:Europe/Berlin CEST
END:DAYLIGHT
BEGIN:DAYLIGHT
DTSTART:20190331T030000
RDATE:20191027T020000
TZOFFSETFROM:+0100
TZOFFSETTO:+0200
TZNAME:Europe/Berlin CEST
END:DAYLIGHT
BEGIN:DAYLIGHT
DTSTART:20200329T030000
RDATE:20201025T020000
TZOFFSETFROM:+0100
TZOFFSETTO:+0200
TZNAME:Europe/Berlin CEST
END:DAYLIGHT
END:VTIMEZONE
BEGIN:VEVENT
UID:f07d8646ec45875e15b8cdfb81edf66d
CATEGORIES:Fortbildung
SUMMARY:Schmerztherapie in der Radiologie und Nuklearmedizin
LOCATION:Löwenkrone-Restaurant in der Stadthalle, Leonhardplatz, 38102 Braunschweig,
   Tel.: 0531/70707-0  Gebührenfreies Parken !
DESCRIPTION;ENCODING=QUOTED-PRINTABLE:Thema:  <strong> Schmerztherapie in der Radiologie und Nuklearmedizin<br />
 <br /></strong><p><strong><span style="text-decoration: underline;">Referen
 ten:</span></strong>    Herr Dr. med. Athour Gevargez, Facharzt für Allgeme
 inmedizin und interventionelle Schmerztherapie - Vortrag 1</p><p>          
                 Frau Dr. med. Verena Scholz, Fachärztin für Radiologie – Vo
 rtrag 2</p><br />Fortbildungspunkte :   4 Punkte<br /><p>DMP:           ---
 ---------              </p>Anmeldung über den GVB Tel: 05 31-612 86 62 Fax:
  05 31-877 06 10<br /><br /> <span style="color: #ff0000;">-    <span style
 ="font-size: 10pt;"><strong>ACHTUNG  NEUER VERANSTALTUNGSORT  !!!!!!  -</st
 rong></span></span>
X-EXTRAINFO:Frau Dr. Verena Scholz Fachärztin des MVZ für diagnostische Radiologie und 
 Nuklearmedizin in Braunschweig und  Herr Dr. med. Athour Gevargez, Facharzt
  für Allgemeinmedizin und interventionelle Schmerztherapie \n
DTSTAMP:20260423T065413Z
DTSTART;TZID=Europe/Berlin:20160302T190000
DTEND;TZID=Europe/Berlin:20160302T220000
SEQUENCE:0
TRANSP:OPAQUE
END:VEVENT
END:VCALENDAR