BEGIN:VCALENDAR
VERSION:2.0
PRODID:-//jEvents 2.0 for Joomla//EN
CALSCALE:GREGORIAN
METHOD:PUBLISH
BEGIN:VTIMEZONE
TZID:Europe/Berlin
BEGIN:STANDARD
DTSTART:20141201T160000
RDATE:20150329T030000
TZOFFSETFROM:+0200
TZOFFSETTO:+0100
TZNAME:Europe/Berlin CET
END:STANDARD
BEGIN:STANDARD
DTSTART:20151025T020000
RDATE:20160327T030000
TZOFFSETFROM:+0200
TZOFFSETTO:+0100
TZNAME:Europe/Berlin CET
END:STANDARD
BEGIN:STANDARD
DTSTART:20161030T020000
RDATE:20170326T030000
TZOFFSETFROM:+0200
TZOFFSETTO:+0100
TZNAME:Europe/Berlin CET
END:STANDARD
BEGIN:STANDARD
DTSTART:20171029T020000
RDATE:20180325T030000
TZOFFSETFROM:+0200
TZOFFSETTO:+0100
TZNAME:Europe/Berlin CET
END:STANDARD
BEGIN:STANDARD
DTSTART:20181028T020000
RDATE:20190331T030000
TZOFFSETFROM:+0200
TZOFFSETTO:+0100
TZNAME:Europe/Berlin CET
END:STANDARD
BEGIN:STANDARD
DTSTART:20191027T020000
RDATE:20200329T030000
TZOFFSETFROM:+0200
TZOFFSETTO:+0100
TZNAME:Europe/Berlin CET
END:STANDARD
BEGIN:STANDARD
DTSTART:20201025T020000
RDATE:20210328T030000
TZOFFSETFROM:+0200
TZOFFSETTO:+0100
TZNAME:Europe/Berlin CET
END:STANDARD
BEGIN:DAYLIGHT
DTSTART:20150329T030000
RDATE:20151025T020000
TZOFFSETFROM:+0100
TZOFFSETTO:+0200
TZNAME:Europe/Berlin CEST
END:DAYLIGHT
BEGIN:DAYLIGHT
DTSTART:20160327T030000
RDATE:20161030T020000
TZOFFSETFROM:+0100
TZOFFSETTO:+0200
TZNAME:Europe/Berlin CEST
END:DAYLIGHT
BEGIN:DAYLIGHT
DTSTART:20170326T030000
RDATE:20171029T020000
TZOFFSETFROM:+0100
TZOFFSETTO:+0200
TZNAME:Europe/Berlin CEST
END:DAYLIGHT
BEGIN:DAYLIGHT
DTSTART:20180325T030000
RDATE:20181028T020000
TZOFFSETFROM:+0100
TZOFFSETTO:+0200
TZNAME:Europe/Berlin CEST
END:DAYLIGHT
BEGIN:DAYLIGHT
DTSTART:20190331T030000
RDATE:20191027T020000
TZOFFSETFROM:+0100
TZOFFSETTO:+0200
TZNAME:Europe/Berlin CEST
END:DAYLIGHT
BEGIN:DAYLIGHT
DTSTART:20200329T030000
RDATE:20201025T020000
TZOFFSETFROM:+0100
TZOFFSETTO:+0200
TZNAME:Europe/Berlin CEST
END:DAYLIGHT
END:VTIMEZONE
BEGIN:VEVENT
UID:5346d1fba2ae983b7cf4bbe820502f9b
CATEGORIES:Fortbildung
SUMMARY:Geriatrie-Leistungen abrechnen
LOCATION:Seminarräume des GVB, John-F.-Kennedy-Platz 9, 38100 Braunschweig
DESCRIPTION;ENCODING=QUOTED-PRINTABLE:<pre><strong><span style="text-decoration: underline;"><span style="font-si
 ze: large;">NUR  FÜR  MITGLIEDER<br /></span></span></strong></pre><pre> </
 pre><pre><span style="font-size: medium;"><strong>Thema:</strong><strong>  
   Geriatrie-Leistungen abrechnen<br /></strong></span><br /><span style="fo
 nt-size: small;"><strong> Referent:</strong><strong>   </strong>Herr Eberha
 rd Drewitz - AAC Niedersachsen</span><br /><br /></pre><ul><li><span style=
 "font-size: small;"><strong>  Programm:</strong>     16:00 Uhr             
     Begrüßung</span><br /><span style="font-size: small;">                 
        16:10 – 17:00 Uhr     Abrechnungsbeispiele zum jeweiligen Thema  </s
 pan><br /><span style="font-size: small;">                        17:00 – 1
 7:30 Uhr     Diskussion und Fragen</span></li></ul><p class="NurText1"> <br
  />Fortbildungspunkte :  2 Punkte<br /><br /></p><p><span style="font-size:
  large;"><strong><span style="text-decoration: underline;">Wichtig!!!!  - V
 erbindliche Anmeldung, da begrenzte Teilnehmeranzahl !!!</span></strong></s
 pan></p><p class="NurText1">                           </p>
DTSTAMP:20260423T011700Z
DTSTART;TZID=Europe/Berlin:20151202T160000
DTEND;TZID=Europe/Berlin:20151202T173000
SEQUENCE:0
TRANSP:OPAQUE
END:VEVENT
END:VCALENDAR