BEGIN:VCALENDAR
VERSION:2.0
PRODID:-//jEvents 2.0 for Joomla//EN
CALSCALE:GREGORIAN
METHOD:PUBLISH
BEGIN:VTIMEZONE
TZID:Europe/Berlin
BEGIN:STANDARD
DTSTART:20141026T020000
RDATE:20150329T030000
TZOFFSETFROM:+0200
TZOFFSETTO:+0100
TZNAME:Europe/Berlin CET
END:STANDARD
BEGIN:STANDARD
DTSTART:20151025T020000
RDATE:20160327T030000
TZOFFSETFROM:+0200
TZOFFSETTO:+0100
TZNAME:Europe/Berlin CET
END:STANDARD
BEGIN:STANDARD
DTSTART:20161030T020000
RDATE:20170326T030000
TZOFFSETFROM:+0200
TZOFFSETTO:+0100
TZNAME:Europe/Berlin CET
END:STANDARD
BEGIN:STANDARD
DTSTART:20171029T020000
RDATE:20180325T030000
TZOFFSETFROM:+0200
TZOFFSETTO:+0100
TZNAME:Europe/Berlin CET
END:STANDARD
BEGIN:STANDARD
DTSTART:20181028T020000
RDATE:20190331T030000
TZOFFSETFROM:+0200
TZOFFSETTO:+0100
TZNAME:Europe/Berlin CET
END:STANDARD
BEGIN:STANDARD
DTSTART:20191027T020000
RDATE:20200329T030000
TZOFFSETFROM:+0200
TZOFFSETTO:+0100
TZNAME:Europe/Berlin CET
END:STANDARD
BEGIN:STANDARD
DTSTART:20201025T020000
RDATE:20210328T030000
TZOFFSETFROM:+0200
TZOFFSETTO:+0100
TZNAME:Europe/Berlin CET
END:STANDARD
BEGIN:DAYLIGHT
DTSTART:20140922T190000
RDATE:20141026T020000
TZOFFSETFROM:+0100
TZOFFSETTO:+0200
TZNAME:Europe/Berlin CEST
END:DAYLIGHT
BEGIN:DAYLIGHT
DTSTART:20150329T030000
RDATE:20151025T020000
TZOFFSETFROM:+0100
TZOFFSETTO:+0200
TZNAME:Europe/Berlin CEST
END:DAYLIGHT
BEGIN:DAYLIGHT
DTSTART:20160327T030000
RDATE:20161030T020000
TZOFFSETFROM:+0100
TZOFFSETTO:+0200
TZNAME:Europe/Berlin CEST
END:DAYLIGHT
BEGIN:DAYLIGHT
DTSTART:20170326T030000
RDATE:20171029T020000
TZOFFSETFROM:+0100
TZOFFSETTO:+0200
TZNAME:Europe/Berlin CEST
END:DAYLIGHT
BEGIN:DAYLIGHT
DTSTART:20180325T030000
RDATE:20181028T020000
TZOFFSETFROM:+0100
TZOFFSETTO:+0200
TZNAME:Europe/Berlin CEST
END:DAYLIGHT
BEGIN:DAYLIGHT
DTSTART:20190331T030000
RDATE:20191027T020000
TZOFFSETFROM:+0100
TZOFFSETTO:+0200
TZNAME:Europe/Berlin CEST
END:DAYLIGHT
BEGIN:DAYLIGHT
DTSTART:20200329T030000
RDATE:20201025T020000
TZOFFSETFROM:+0100
TZOFFSETTO:+0200
TZNAME:Europe/Berlin CEST
END:DAYLIGHT
END:VTIMEZONE
BEGIN:VEVENT
UID:60e05b65c8973197cb52258648be12ee
CATEGORIES:Fortbildung
SUMMARY:Leitlinien der synergetischen Kombitherapeutika bei Diabetes mellitus Typ 2
LOCATION:Oelper Waldhaus, am Ölper Holze 1, 38116 Braunschweig
DESCRIPTION;ENCODING=QUOTED-PRINTABLE:Thema - Leitlinien der synergetischenKombitherapeutika bei Diabetes mellitu
 s Typ 2<br style="font-family: arial,helvetica,sans-serif;" /><p>Referent :
  Herr  Dr. med.  Christop Axmann, Internist, Diabetologe und OA der Dr. med
 . Fontheim-Klinik, Liebenburg<br /><br />Fortbildungspunkte : 4 Punkte<br /
 >DMP:  4 Punkte Diabetes</p><p style="margin-bottom: 0cm; line-height: 100%
 ;">Anmeldung über den GVB Tel: 05 31-612 86 62 Fax: 05 31-877 06 10 </p><br
  style="font-family: Arial,sans-serif;" /><p style="margin-bottom: 0cm; lin
 e-height: 100%;"><span style="font-family: Arial,sans-serif;"> </span></p><
 p style="margin-left: 1.25cm; text-indent: 1.25cm; margin-bottom: 0cm; line
 -height: 100%;"><span style="font-family: Arial,sans-serif;"> </span></p>
X-EXTRAINFO:Frau Tabke - Novo Nordisk
DTSTAMP:20260422T195506Z
DTSTART;TZID=Europe/Berlin:20150923T190000
DTEND;TZID=Europe/Berlin:20150923T220000
SEQUENCE:0
TRANSP:OPAQUE
END:VEVENT
END:VCALENDAR