BEGIN:VCALENDAR
VERSION:2.0
PRODID:-//jEvents 2.0 for Joomla//EN
CALSCALE:GREGORIAN
METHOD:PUBLISH
BEGIN:VTIMEZONE
TZID:Europe/Berlin
BEGIN:STANDARD
DTSTART:20141026T020000
RDATE:20150329T030000
TZOFFSETFROM:+0200
TZOFFSETTO:+0100
TZNAME:Europe/Berlin CET
END:STANDARD
BEGIN:STANDARD
DTSTART:20151025T020000
RDATE:20160327T030000
TZOFFSETFROM:+0200
TZOFFSETTO:+0100
TZNAME:Europe/Berlin CET
END:STANDARD
BEGIN:STANDARD
DTSTART:20161030T020000
RDATE:20170326T030000
TZOFFSETFROM:+0200
TZOFFSETTO:+0100
TZNAME:Europe/Berlin CET
END:STANDARD
BEGIN:STANDARD
DTSTART:20171029T020000
RDATE:20180325T030000
TZOFFSETFROM:+0200
TZOFFSETTO:+0100
TZNAME:Europe/Berlin CET
END:STANDARD
BEGIN:STANDARD
DTSTART:20181028T020000
RDATE:20190331T030000
TZOFFSETFROM:+0200
TZOFFSETTO:+0100
TZNAME:Europe/Berlin CET
END:STANDARD
BEGIN:STANDARD
DTSTART:20191027T020000
RDATE:20200329T030000
TZOFFSETFROM:+0200
TZOFFSETTO:+0100
TZNAME:Europe/Berlin CET
END:STANDARD
BEGIN:STANDARD
DTSTART:20201025T020000
RDATE:20210328T030000
TZOFFSETFROM:+0200
TZOFFSETTO:+0100
TZNAME:Europe/Berlin CET
END:STANDARD
BEGIN:DAYLIGHT
DTSTART:20140714T191500
RDATE:20141026T020000
TZOFFSETFROM:+0100
TZOFFSETTO:+0200
TZNAME:Europe/Berlin CEST
END:DAYLIGHT
BEGIN:DAYLIGHT
DTSTART:20150329T030000
RDATE:20151025T020000
TZOFFSETFROM:+0100
TZOFFSETTO:+0200
TZNAME:Europe/Berlin CEST
END:DAYLIGHT
BEGIN:DAYLIGHT
DTSTART:20160327T030000
RDATE:20161030T020000
TZOFFSETFROM:+0100
TZOFFSETTO:+0200
TZNAME:Europe/Berlin CEST
END:DAYLIGHT
BEGIN:DAYLIGHT
DTSTART:20170326T030000
RDATE:20171029T020000
TZOFFSETFROM:+0100
TZOFFSETTO:+0200
TZNAME:Europe/Berlin CEST
END:DAYLIGHT
BEGIN:DAYLIGHT
DTSTART:20180325T030000
RDATE:20181028T020000
TZOFFSETFROM:+0100
TZOFFSETTO:+0200
TZNAME:Europe/Berlin CEST
END:DAYLIGHT
BEGIN:DAYLIGHT
DTSTART:20190331T030000
RDATE:20191027T020000
TZOFFSETFROM:+0100
TZOFFSETTO:+0200
TZNAME:Europe/Berlin CEST
END:DAYLIGHT
BEGIN:DAYLIGHT
DTSTART:20200329T030000
RDATE:20201025T020000
TZOFFSETFROM:+0100
TZOFFSETTO:+0200
TZNAME:Europe/Berlin CEST
END:DAYLIGHT
END:VTIMEZONE
BEGIN:VEVENT
UID:ac22c5f76408188769fa96f138dfef59
CATEGORIES:Fortbildung
SUMMARY:Stellenwert der frühzeitigen Detektion des Vorhofflimmerns als  Risiko und Ursache für einen Apoplex
LOCATION:„Waldhaus Oelper“, Am Ölper Holze 1, 38116 Braunschweig, Tel.: 05 31-25 62 
 50
DESCRIPTION;ENCODING=QUOTED-PRINTABLE:<p><strong><span style="text-decoration: underline;">Thema:</span></strong>
 <strong>      <br /><br /></strong></p><ul><li><strong>Teil 1: </strong>Ste
 llenwert der frühzeitigen Diagnostik und Therapie des intermittierenden, pa
 roxysmalen VHF besonders auf die Vermeidung von Schlaganfällen oder anderen
  thromboembolischen Ereignissen</li></ul><ul><li><strong>Teil 2:  </strong>
 Einführung eines IV Vertrages mit dem Ziel der frühzeitigen Diagnostik des 
 intermittierenden, paroxysmalen VHF   durch Langzeit EKG- Aufzeichnung (SRO
  Risikoanalyse)</li></ul><p><strong><span style="text-decoration: underline
 ;"><br />Referent:</span></strong>    Dr. med. Matthias Sturm, OA der Kardi
 ologischen Abteilung der Helios Klinik Salzgitter<br /><br /></p>Fortbildun
 gspunkte :  5 Punkte<br /><p>DMP:  5 Punkte KHK<span style="font-size: 11.0
 pt; font-family: 'Calibri','sans-serif'; color: #1f497d;"><br /></span></p>
 Anmeldung über den GVB Tel: 05 31-612 86 62 Fax: 05 31-877 06 10
X-EXTRAINFO:GVB - Dr. Uwe Lorenz / Boehringer-Ingelheim Pharma GmbH & Co. KG, Herr Knes
 e, Frau Nievergall  / Dr.med. Matthias Sturm
DTSTAMP:20260422T160637Z
DTSTART;TZID=Europe/Berlin:20150715T191500
DTEND;TZID=Europe/Berlin:20150715T223000
SEQUENCE:0
TRANSP:OPAQUE
END:VEVENT
END:VCALENDAR