BEGIN:VCALENDAR
VERSION:2.0
PRODID:-//jEvents 2.0 for Joomla//EN
CALSCALE:GREGORIAN
METHOD:PUBLISH
BEGIN:VTIMEZONE
TZID:Europe/Berlin
BEGIN:STANDARD
DTSTART:20141026T020000
RDATE:20150329T030000
TZOFFSETFROM:+0200
TZOFFSETTO:+0100
TZNAME:Europe/Berlin CET
END:STANDARD
BEGIN:STANDARD
DTSTART:20151025T020000
RDATE:20160327T030000
TZOFFSETFROM:+0200
TZOFFSETTO:+0100
TZNAME:Europe/Berlin CET
END:STANDARD
BEGIN:STANDARD
DTSTART:20161030T020000
RDATE:20170326T030000
TZOFFSETFROM:+0200
TZOFFSETTO:+0100
TZNAME:Europe/Berlin CET
END:STANDARD
BEGIN:STANDARD
DTSTART:20171029T020000
RDATE:20180325T030000
TZOFFSETFROM:+0200
TZOFFSETTO:+0100
TZNAME:Europe/Berlin CET
END:STANDARD
BEGIN:STANDARD
DTSTART:20181028T020000
RDATE:20190331T030000
TZOFFSETFROM:+0200
TZOFFSETTO:+0100
TZNAME:Europe/Berlin CET
END:STANDARD
BEGIN:STANDARD
DTSTART:20191027T020000
RDATE:20200329T030000
TZOFFSETFROM:+0200
TZOFFSETTO:+0100
TZNAME:Europe/Berlin CET
END:STANDARD
BEGIN:STANDARD
DTSTART:20201025T020000
RDATE:20210328T030000
TZOFFSETFROM:+0200
TZOFFSETTO:+0100
TZNAME:Europe/Berlin CET
END:STANDARD
BEGIN:DAYLIGHT
DTSTART:20140925T090000
RDATE:20141026T020000
TZOFFSETFROM:+0100
TZOFFSETTO:+0200
TZNAME:Europe/Berlin CEST
END:DAYLIGHT
BEGIN:DAYLIGHT
DTSTART:20150329T030000
RDATE:20151025T020000
TZOFFSETFROM:+0100
TZOFFSETTO:+0200
TZNAME:Europe/Berlin CEST
END:DAYLIGHT
BEGIN:DAYLIGHT
DTSTART:20160327T030000
RDATE:20161030T020000
TZOFFSETFROM:+0100
TZOFFSETTO:+0200
TZNAME:Europe/Berlin CEST
END:DAYLIGHT
BEGIN:DAYLIGHT
DTSTART:20170326T030000
RDATE:20171029T020000
TZOFFSETFROM:+0100
TZOFFSETTO:+0200
TZNAME:Europe/Berlin CEST
END:DAYLIGHT
BEGIN:DAYLIGHT
DTSTART:20180325T030000
RDATE:20181028T020000
TZOFFSETFROM:+0100
TZOFFSETTO:+0200
TZNAME:Europe/Berlin CEST
END:DAYLIGHT
BEGIN:DAYLIGHT
DTSTART:20190331T030000
RDATE:20191027T020000
TZOFFSETFROM:+0100
TZOFFSETTO:+0200
TZNAME:Europe/Berlin CEST
END:DAYLIGHT
BEGIN:DAYLIGHT
DTSTART:20200329T030000
RDATE:20201025T020000
TZOFFSETFROM:+0100
TZOFFSETTO:+0200
TZNAME:Europe/Berlin CEST
END:DAYLIGHT
END:VTIMEZONE
BEGIN:VEVENT
UID:036626c19ba9f915c94875efdc37c9f3
CATEGORIES:Fortbildung
SUMMARY:3 in 1 - Kardiologie, Diabetologie, Pneumologie
LOCATION:Steigenberger Parkhotel Braunschweig, Nimes-Str. 2, 38100 Braunschweig 
DESCRIPTION;ENCODING=QUOTED-PRINTABLE:<p><span>Thema: </span><br /><br /></p><ul><li>Individualisierte moderne Di
 fferentialtherapie bei Diabetes mellitus Typ 2, PD. Dr. med. J. Aberle</li>
 </ul><ul><li>Update ACS, Anwendung, Dauer und Anwendungsbereiche der dualen
  Plättchenhemmung, Prof. Dr. med. M. Heintzen</li></ul><ul><li>Asthma bronc
 hiale und COPD – Spirometrie und Inhalative Therapie bei obstruktiven Atemw
 egserkrankungen, Prof. Dr. med. Ukena</li></ul><p> <br />Fortbildungspunkte
  :  5 Punkte<br />DMP:  1KHK, 1 Diabetes, 1 Asthma/COPD</p><p style="margin
 -bottom: 0cm; line-height: 100%;">Anmeldung über den GVB Tel: 05 31-612 86 
 62 Fax: 05 31-877 06 10 </p><br style="font-family: Arial,sans-serif;" /><p
  style="margin-bottom: 0cm; line-height: 100%;"><span style="font-family: A
 rial,sans-serif;"> </span></p><p style="margin-left: 1.25cm; text-indent: 1
 .25cm; margin-bottom: 0cm; line-height: 100%;"><span style="font-family: Ar
 ial,sans-serif;"> </span></p>
X-EXTRAINFO:Frau Schröder/ Frau Jerie - AstraZeneca
DTSTAMP:20260422T195612Z
DTSTART;TZID=Europe/Berlin:20150926T090000
DTEND;TZID=Europe/Berlin:20150926T131500
SEQUENCE:0
TRANSP:OPAQUE
END:VEVENT
END:VCALENDAR