BEGIN:VCALENDAR
VERSION:2.0
PRODID:-//jEvents 2.0 for Joomla//EN
CALSCALE:GREGORIAN
METHOD:PUBLISH
BEGIN:VTIMEZONE
TZID:Europe/Berlin
BEGIN:STANDARD
DTSTART:20131027T020000
RDATE:20140330T030000
TZOFFSETFROM:+0200
TZOFFSETTO:+0100
TZNAME:Europe/Berlin CET
END:STANDARD
BEGIN:STANDARD
DTSTART:20141026T020000
RDATE:20150329T030000
TZOFFSETFROM:+0200
TZOFFSETTO:+0100
TZNAME:Europe/Berlin CET
END:STANDARD
BEGIN:STANDARD
DTSTART:20151025T020000
RDATE:20160327T030000
TZOFFSETFROM:+0200
TZOFFSETTO:+0100
TZNAME:Europe/Berlin CET
END:STANDARD
BEGIN:STANDARD
DTSTART:20161030T020000
RDATE:20170326T030000
TZOFFSETFROM:+0200
TZOFFSETTO:+0100
TZNAME:Europe/Berlin CET
END:STANDARD
BEGIN:STANDARD
DTSTART:20171029T020000
RDATE:20180325T030000
TZOFFSETFROM:+0200
TZOFFSETTO:+0100
TZNAME:Europe/Berlin CET
END:STANDARD
BEGIN:STANDARD
DTSTART:20181028T020000
RDATE:20190331T030000
TZOFFSETFROM:+0200
TZOFFSETTO:+0100
TZNAME:Europe/Berlin CET
END:STANDARD
BEGIN:STANDARD
DTSTART:20191027T020000
RDATE:20200329T030000
TZOFFSETFROM:+0200
TZOFFSETTO:+0100
TZNAME:Europe/Berlin CET
END:STANDARD
BEGIN:STANDARD
DTSTART:20201025T020000
RDATE:20210328T030000
TZOFFSETFROM:+0200
TZOFFSETTO:+0100
TZNAME:Europe/Berlin CET
END:STANDARD
BEGIN:DAYLIGHT
DTSTART:20131010T090000
RDATE:20131027T020000
TZOFFSETFROM:+0100
TZOFFSETTO:+0200
TZNAME:Europe/Berlin CEST
END:DAYLIGHT
BEGIN:DAYLIGHT
DTSTART:20140330T030000
RDATE:20141026T020000
TZOFFSETFROM:+0100
TZOFFSETTO:+0200
TZNAME:Europe/Berlin CEST
END:DAYLIGHT
BEGIN:DAYLIGHT
DTSTART:20150329T030000
RDATE:20151025T020000
TZOFFSETFROM:+0100
TZOFFSETTO:+0200
TZNAME:Europe/Berlin CEST
END:DAYLIGHT
BEGIN:DAYLIGHT
DTSTART:20160327T030000
RDATE:20161030T020000
TZOFFSETFROM:+0100
TZOFFSETTO:+0200
TZNAME:Europe/Berlin CEST
END:DAYLIGHT
BEGIN:DAYLIGHT
DTSTART:20170326T030000
RDATE:20171029T020000
TZOFFSETFROM:+0100
TZOFFSETTO:+0200
TZNAME:Europe/Berlin CEST
END:DAYLIGHT
BEGIN:DAYLIGHT
DTSTART:20180325T030000
RDATE:20181028T020000
TZOFFSETFROM:+0100
TZOFFSETTO:+0200
TZNAME:Europe/Berlin CEST
END:DAYLIGHT
BEGIN:DAYLIGHT
DTSTART:20190331T030000
RDATE:20191027T020000
TZOFFSETFROM:+0100
TZOFFSETTO:+0200
TZNAME:Europe/Berlin CEST
END:DAYLIGHT
BEGIN:DAYLIGHT
DTSTART:20200329T030000
RDATE:20201025T020000
TZOFFSETFROM:+0100
TZOFFSETTO:+0200
TZNAME:Europe/Berlin CEST
END:DAYLIGHT
END:VTIMEZONE
BEGIN:VEVENT
UID:b860e9f63b45cc1dbb61745d51647a0f
CATEGORIES:Fortbildung
SUMMARY:3er Fortbildung in Zusammenarbeit mit der AstraZeneca GmbH
LOCATION:Steigenberger Parkhotel, Nimesstraße 2, 38100 Braunschweig, Tel.: 0531-4822
 2-0
DESCRIPTION;ENCODING=QUOTED-PRINTABLE:Die Firma<strong> AstraZeneca GmbH in Zusammenarbeit mit dem GV.B lädt </st
 rong>zu der folgenden Fortbildungsveranstaltung ein:<br /><strong><span sty
 le="text-decoration: underline;">Referenten:</span></strong> Dr. med. Ekkeh
 ard Martin, Prof. Dr. med. M. Heintzen, RA Jörg Hohmann,<br />             
       Hartmut Reinbold, Fachapotheker für klinische Pharmazie<p><strong><sp
 an style="text-decoration: underline;">Programm:</span></strong>  09:00 –  
 09:15 Uhr         Begrüßung</p><p>                   09:15 – 10:00 Uhr     
      Therapie beim ACS, Prof. Dr. med. M. Heintzen</p><p>                  
  10:00 – 10:50 Uhr          Individualisierte moderne Differentialtherapie 
 bei Diabetes mellitus Typ 2, Dr. med. Ekkehard Martin</p><p>               
     10:50 – 11:10 Uhr          Kaffeepause</p><p>                   11:10 –
  12:00 Uhr          Diabetes mellitus Typ 2, Depression und kardiovaskuläre
  Erkrankung-</p><p>                                                      Pa
 thologische, Klinische und Pharmakologische Aspekte.</p><p>                
                                       Praxisrelevante Interaktionen mit Ant
 idiabetika unter Anführung von</p><p>                                      
                 Fallbeispielen, Hartmut Reinbold</p><p>                  12
 :00 – 12:50 Uhr           Innovativ verordnen ohne Risiken und Nebenwirkung
 en,</p><p>                                                     RA Jörg Hohm
 ann</p><p>                  12:50 – 13:30 Uhr          Diskussion und Verab
 schiedung</p><br />Fortbildungspunkte : 6 Punkte<br />DMP-Punkte : 2 Punkte
  für KHK und 3 Punkte für DM2<br /><br /><br />Anmeldung über den GVB Tel: 
 05 31-612 86 62 Fax: 05 31-877 06 10
X-EXTRAINFO:Frau Häger, AstraZeneca GmbH
DTSTAMP:20260421T221423Z
DTSTART;TZID=Europe/Berlin:20141011T090000
DTEND;TZID=Europe/Berlin:20141011T130000
SEQUENCE:0
TRANSP:OPAQUE
END:VEVENT
END:VCALENDAR