BEGIN:VCALENDAR
VERSION:2.0
PRODID:-//jEvents 2.0 for Joomla//EN
CALSCALE:GREGORIAN
METHOD:PUBLISH
BEGIN:VTIMEZONE
TZID:Europe/Berlin
BEGIN:STANDARD
DTSTART:20131027T020000
RDATE:20140330T030000
TZOFFSETFROM:+0200
TZOFFSETTO:+0100
TZNAME:Europe/Berlin CET
END:STANDARD
BEGIN:STANDARD
DTSTART:20141026T020000
RDATE:20150329T030000
TZOFFSETFROM:+0200
TZOFFSETTO:+0100
TZNAME:Europe/Berlin CET
END:STANDARD
BEGIN:STANDARD
DTSTART:20151025T020000
RDATE:20160327T030000
TZOFFSETFROM:+0200
TZOFFSETTO:+0100
TZNAME:Europe/Berlin CET
END:STANDARD
BEGIN:STANDARD
DTSTART:20161030T020000
RDATE:20170326T030000
TZOFFSETFROM:+0200
TZOFFSETTO:+0100
TZNAME:Europe/Berlin CET
END:STANDARD
BEGIN:STANDARD
DTSTART:20171029T020000
RDATE:20180325T030000
TZOFFSETFROM:+0200
TZOFFSETTO:+0100
TZNAME:Europe/Berlin CET
END:STANDARD
BEGIN:STANDARD
DTSTART:20181028T020000
RDATE:20190331T030000
TZOFFSETFROM:+0200
TZOFFSETTO:+0100
TZNAME:Europe/Berlin CET
END:STANDARD
BEGIN:STANDARD
DTSTART:20191027T020000
RDATE:20200329T030000
TZOFFSETFROM:+0200
TZOFFSETTO:+0100
TZNAME:Europe/Berlin CET
END:STANDARD
BEGIN:STANDARD
DTSTART:20201025T020000
RDATE:20210328T030000
TZOFFSETFROM:+0200
TZOFFSETTO:+0100
TZNAME:Europe/Berlin CET
END:STANDARD
BEGIN:DAYLIGHT
DTSTART:20130926T090000
RDATE:20131027T020000
TZOFFSETFROM:+0100
TZOFFSETTO:+0200
TZNAME:Europe/Berlin CEST
END:DAYLIGHT
BEGIN:DAYLIGHT
DTSTART:20140330T030000
RDATE:20141026T020000
TZOFFSETFROM:+0100
TZOFFSETTO:+0200
TZNAME:Europe/Berlin CEST
END:DAYLIGHT
BEGIN:DAYLIGHT
DTSTART:20150329T030000
RDATE:20151025T020000
TZOFFSETFROM:+0100
TZOFFSETTO:+0200
TZNAME:Europe/Berlin CEST
END:DAYLIGHT
BEGIN:DAYLIGHT
DTSTART:20160327T030000
RDATE:20161030T020000
TZOFFSETFROM:+0100
TZOFFSETTO:+0200
TZNAME:Europe/Berlin CEST
END:DAYLIGHT
BEGIN:DAYLIGHT
DTSTART:20170326T030000
RDATE:20171029T020000
TZOFFSETFROM:+0100
TZOFFSETTO:+0200
TZNAME:Europe/Berlin CEST
END:DAYLIGHT
BEGIN:DAYLIGHT
DTSTART:20180325T030000
RDATE:20181028T020000
TZOFFSETFROM:+0100
TZOFFSETTO:+0200
TZNAME:Europe/Berlin CEST
END:DAYLIGHT
BEGIN:DAYLIGHT
DTSTART:20190331T030000
RDATE:20191027T020000
TZOFFSETFROM:+0100
TZOFFSETTO:+0200
TZNAME:Europe/Berlin CEST
END:DAYLIGHT
BEGIN:DAYLIGHT
DTSTART:20200329T030000
RDATE:20201025T020000
TZOFFSETFROM:+0100
TZOFFSETTO:+0200
TZNAME:Europe/Berlin CEST
END:DAYLIGHT
END:VTIMEZONE
BEGIN:VEVENT
UID:31a6d8007ed95621962e0aa58987eee5
CATEGORIES:Fortbildung
SUMMARY:4 in 1 Ärztefortbildung, Berlin-Chemie
LOCATION:Restaurant Zucker, Frankfurter Straße 2, 38122 Braunschweig  Tel. 05 31. 28
  19 8 0
DESCRIPTION;ENCODING=QUOTED-PRINTABLE:Programm:09.00 Uhr Begrüßung durch Herrn Dirk Ohlrogge, Berlin-Chemie AG\n0
 9.15 Uhr Gicht und Hyperurikämie - Ursachen, klinisches Bild, Diagnostik, B
 egleiterkrankungen, Kodierung und Therapie\nProf. Dr. med. Ursula Gresser, 
 München- Sauerlach\n Praxis für Innere Medizin und Medizinisch-wissenschaft
 liche Sachverständigengutachten\n10.45 Uhr KHK-Muss es immer der Stent sein
 ?\nProf. Dr. Andreas Götte, Paderborn\nFacharzt für Innere Medizin und Kard
 iologie, Internistische Intensivmedizin, Zusatzqualifikation Spezielle Rhyt
 hmologie\n12.15 Uhr Diskussion und Lernkontrolle\n12.30 Uhr Pause und Imbis
 s\n13.00 Uhr Der COPD-Patient: Was hilft - wer hilft?\nDr. Susanne Bustami,
  Braunschweig\nFachärztin für Pneumologie\n14.30 Uhr www.spontaneliebe.de\n
 Dr. Harald Junius, Braunschweig\n Facharzt für Urologie\n16.00 Uhr ENDE\n\n
 Fortbildungspunkte: 9 \nFür DMP und KHK-Punkte zertifiziert\n\n\nAnmeldung 
 über den GVB Tel: 05 31-612 86 62 Fax: 05 31-877 06 10
X-EXTRAINFO:Frau Heiles, Berlin-Chemie
DTSTAMP:20260421T212941Z
DTSTART;TZID=Europe/Berlin:20140927T090000
DTEND;TZID=Europe/Berlin:20140927T160000
SEQUENCE:0
TRANSP:OPAQUE
END:VEVENT
END:VCALENDAR