BEGIN:VCALENDAR
VERSION:2.0
PRODID:-//jEvents 2.0 for Joomla//EN
CALSCALE:GREGORIAN
METHOD:PUBLISH
BEGIN:VTIMEZONE
TZID:Europe/Berlin
BEGIN:STANDARD
DTSTART:20130325T190000
RDATE:20130331T030000
TZOFFSETFROM:+0200
TZOFFSETTO:+0100
TZNAME:Europe/Berlin CET
END:STANDARD
BEGIN:STANDARD
DTSTART:20131027T020000
RDATE:20140330T030000
TZOFFSETFROM:+0200
TZOFFSETTO:+0100
TZNAME:Europe/Berlin CET
END:STANDARD
BEGIN:STANDARD
DTSTART:20141026T020000
RDATE:20150329T030000
TZOFFSETFROM:+0200
TZOFFSETTO:+0100
TZNAME:Europe/Berlin CET
END:STANDARD
BEGIN:STANDARD
DTSTART:20151025T020000
RDATE:20160327T030000
TZOFFSETFROM:+0200
TZOFFSETTO:+0100
TZNAME:Europe/Berlin CET
END:STANDARD
BEGIN:STANDARD
DTSTART:20161030T020000
RDATE:20170326T030000
TZOFFSETFROM:+0200
TZOFFSETTO:+0100
TZNAME:Europe/Berlin CET
END:STANDARD
BEGIN:STANDARD
DTSTART:20171029T020000
RDATE:20180325T030000
TZOFFSETFROM:+0200
TZOFFSETTO:+0100
TZNAME:Europe/Berlin CET
END:STANDARD
BEGIN:STANDARD
DTSTART:20181028T020000
RDATE:20190331T030000
TZOFFSETFROM:+0200
TZOFFSETTO:+0100
TZNAME:Europe/Berlin CET
END:STANDARD
BEGIN:STANDARD
DTSTART:20191027T020000
RDATE:20200329T030000
TZOFFSETFROM:+0200
TZOFFSETTO:+0100
TZNAME:Europe/Berlin CET
END:STANDARD
BEGIN:STANDARD
DTSTART:20201025T020000
RDATE:20210328T030000
TZOFFSETFROM:+0200
TZOFFSETTO:+0100
TZNAME:Europe/Berlin CET
END:STANDARD
BEGIN:DAYLIGHT
DTSTART:20130331T030000
RDATE:20131027T020000
TZOFFSETFROM:+0100
TZOFFSETTO:+0200
TZNAME:Europe/Berlin CEST
END:DAYLIGHT
BEGIN:DAYLIGHT
DTSTART:20140330T030000
RDATE:20141026T020000
TZOFFSETFROM:+0100
TZOFFSETTO:+0200
TZNAME:Europe/Berlin CEST
END:DAYLIGHT
BEGIN:DAYLIGHT
DTSTART:20150329T030000
RDATE:20151025T020000
TZOFFSETFROM:+0100
TZOFFSETTO:+0200
TZNAME:Europe/Berlin CEST
END:DAYLIGHT
BEGIN:DAYLIGHT
DTSTART:20160327T030000
RDATE:20161030T020000
TZOFFSETFROM:+0100
TZOFFSETTO:+0200
TZNAME:Europe/Berlin CEST
END:DAYLIGHT
BEGIN:DAYLIGHT
DTSTART:20170326T030000
RDATE:20171029T020000
TZOFFSETFROM:+0100
TZOFFSETTO:+0200
TZNAME:Europe/Berlin CEST
END:DAYLIGHT
BEGIN:DAYLIGHT
DTSTART:20180325T030000
RDATE:20181028T020000
TZOFFSETFROM:+0100
TZOFFSETTO:+0200
TZNAME:Europe/Berlin CEST
END:DAYLIGHT
BEGIN:DAYLIGHT
DTSTART:20190331T030000
RDATE:20191027T020000
TZOFFSETFROM:+0100
TZOFFSETTO:+0200
TZNAME:Europe/Berlin CEST
END:DAYLIGHT
BEGIN:DAYLIGHT
DTSTART:20200329T030000
RDATE:20201025T020000
TZOFFSETFROM:+0100
TZOFFSETTO:+0200
TZNAME:Europe/Berlin CEST
END:DAYLIGHT
END:VTIMEZONE
BEGIN:VEVENT
UID:aeedb6f48aad0881ea5d50c2d7b278e2
CATEGORIES:Fortbildung
SUMMARY:B6, B12, Folsäure in der Prävention, Schwerpunkt: „Der geriatrische Patient“
LOCATION:Waldhaus Oelper, Am Ölper Holze 1, 38116 Braunschweig, Tel.: 05 31-25 62 50
DESCRIPTION;ENCODING=QUOTED-PRINTABLE:<p><strong><span style="text-decoration: underline;">Thema:</span></strong>
 <strong>        B6, B12, Folsäure in der Prävention, Schwerpunkt: „Der geri
 atrische Patient“<br /></strong></p><p><strong>                      </stro
 ng></p><p><strong><span style="text-decoration: underline;">Referent:</span
 ></strong>     <strong>Herr Prof. Dr. med. Uwe Till</strong></p><p>        
            Facharzt für medizinische Biochemie aus Erfurt</p><p><strong><sp
 an style="text-decoration: underline;">Programm:</span></strong>  19:00 Uhr
                    Begrüßung</p><p>                   19:10 – 20:00 Uhr    
 Vortrag Teil I</p><p>                   20:00 – 20:45 Uhr    Diskussion und
  Fragen, Kasuistiken</p><p>Pause</p><p>                   21:00 – 21:45 Uhr
     Vortrag Teil II</p><p>                   21:45 – 22:00 Uhr    Lernzielk
 ontrolle, Evaluation</p><p>                   ab 22:00 Uhr             Disk
 ussion interessanter Fälle aus der eigenen Praxis</p><br />Anmeldung über d
 en GVB Tel: 05 31-612 86 62 Fax: 05 31-877 06 10<br /><br />Fortbildungspun
 kte: 5<br /><br />
X-EXTRAINFO:Frau Spittel, Firma Medice
DTSTAMP:20260421T112240Z
DTSTART;TZID=Europe/Berlin:20140326T190000
DTEND;TZID=Europe/Berlin:20140326T223000
SEQUENCE:0
TRANSP:OPAQUE
END:VEVENT
END:VCALENDAR