BEGIN:VCALENDAR
VERSION:2.0
PRODID:-//jEvents 2.0 for Joomla//EN
CALSCALE:GREGORIAN
METHOD:PUBLISH
BEGIN:VTIMEZONE
TZID:Europe/Berlin
BEGIN:STANDARD
DTSTART:20130318T150000
RDATE:20130331T030000
TZOFFSETFROM:+0200
TZOFFSETTO:+0100
TZNAME:Europe/Berlin CET
END:STANDARD
BEGIN:STANDARD
DTSTART:20131027T020000
RDATE:20140330T030000
TZOFFSETFROM:+0200
TZOFFSETTO:+0100
TZNAME:Europe/Berlin CET
END:STANDARD
BEGIN:STANDARD
DTSTART:20141026T020000
RDATE:20150329T030000
TZOFFSETFROM:+0200
TZOFFSETTO:+0100
TZNAME:Europe/Berlin CET
END:STANDARD
BEGIN:STANDARD
DTSTART:20151025T020000
RDATE:20160327T030000
TZOFFSETFROM:+0200
TZOFFSETTO:+0100
TZNAME:Europe/Berlin CET
END:STANDARD
BEGIN:STANDARD
DTSTART:20161030T020000
RDATE:20170326T030000
TZOFFSETFROM:+0200
TZOFFSETTO:+0100
TZNAME:Europe/Berlin CET
END:STANDARD
BEGIN:STANDARD
DTSTART:20171029T020000
RDATE:20180325T030000
TZOFFSETFROM:+0200
TZOFFSETTO:+0100
TZNAME:Europe/Berlin CET
END:STANDARD
BEGIN:STANDARD
DTSTART:20181028T020000
RDATE:20190331T030000
TZOFFSETFROM:+0200
TZOFFSETTO:+0100
TZNAME:Europe/Berlin CET
END:STANDARD
BEGIN:STANDARD
DTSTART:20191027T020000
RDATE:20200329T030000
TZOFFSETFROM:+0200
TZOFFSETTO:+0100
TZNAME:Europe/Berlin CET
END:STANDARD
BEGIN:STANDARD
DTSTART:20201025T020000
RDATE:20210328T030000
TZOFFSETFROM:+0200
TZOFFSETTO:+0100
TZNAME:Europe/Berlin CET
END:STANDARD
BEGIN:DAYLIGHT
DTSTART:20130331T030000
RDATE:20131027T020000
TZOFFSETFROM:+0100
TZOFFSETTO:+0200
TZNAME:Europe/Berlin CEST
END:DAYLIGHT
BEGIN:DAYLIGHT
DTSTART:20140330T030000
RDATE:20141026T020000
TZOFFSETFROM:+0100
TZOFFSETTO:+0200
TZNAME:Europe/Berlin CEST
END:DAYLIGHT
BEGIN:DAYLIGHT
DTSTART:20150329T030000
RDATE:20151025T020000
TZOFFSETFROM:+0100
TZOFFSETTO:+0200
TZNAME:Europe/Berlin CEST
END:DAYLIGHT
BEGIN:DAYLIGHT
DTSTART:20160327T030000
RDATE:20161030T020000
TZOFFSETFROM:+0100
TZOFFSETTO:+0200
TZNAME:Europe/Berlin CEST
END:DAYLIGHT
BEGIN:DAYLIGHT
DTSTART:20170326T030000
RDATE:20171029T020000
TZOFFSETFROM:+0100
TZOFFSETTO:+0200
TZNAME:Europe/Berlin CEST
END:DAYLIGHT
BEGIN:DAYLIGHT
DTSTART:20180325T030000
RDATE:20181028T020000
TZOFFSETFROM:+0100
TZOFFSETTO:+0200
TZNAME:Europe/Berlin CEST
END:DAYLIGHT
BEGIN:DAYLIGHT
DTSTART:20190331T030000
RDATE:20191027T020000
TZOFFSETFROM:+0100
TZOFFSETTO:+0200
TZNAME:Europe/Berlin CEST
END:DAYLIGHT
BEGIN:DAYLIGHT
DTSTART:20200329T030000
RDATE:20201025T020000
TZOFFSETFROM:+0100
TZOFFSETTO:+0200
TZNAME:Europe/Berlin CEST
END:DAYLIGHT
END:VTIMEZONE
BEGIN:VEVENT
UID:68482e8fc689e2844c3143a35d86afa4
CATEGORIES:Fortbildung
SUMMARY:Forum der Volkskrankheiten, mehrere Vorträge
LOCATION:Steigenberger Parkhotel Braunschweig Nimesstraße 2, 38100 Braunschweig
DESCRIPTION;ENCODING=QUOTED-PRINTABLE:<p><strong><span style="text-decoration: underline;">Thema:</span></strong>
 <strong>         Forum der Volkskrankheiten</strong></p><p><strong><span st
 yle="text-decoration: underline;">Referenten:</span></strong> Dr. med. Gabr
 iele Müller - Hunold, FÄ Diabetologie, Grasleben</p><p><strong>            
        </strong>Prof. Dr. med. Andreas Schäfer, Medizinische Hochschule Han
 nover</p><p>                   Dr. med. Kai - Uwe Heuer, FA Orthopädie, Hil
 desheim</p><p><strong><span style="text-decoration: underline;">Programm:</
 span></strong>  15:00 Uhr                  Begrüßung</p><p>                
    15:15 – 16:00 Uhr    Vortrag „Diabetes Update 2014“</p><p>              
      16:00 – 16:15 Uhr    Diskussion und Fragen, Kasuistiken</p><p>        
            16:15 – 17:00 Uhr    Vortrag „Entwicklungen in der Lipidtherapie
  – KHK update</p><p>                   17:00 – 17:15 Uhr    Diskussion und 
 Fragen, Kasuistiken</p><p>                   17:15 – 18:00 Uhr    Vortrag „
 Therapie von Gelenkerkrankungen nach Kriterien der evidenzbasierten Medizin
 “</p><p>                   18:00 – 18:15 Uhr    Diskussion und Fragen, Kasu
 istiken                   </p><p>                   18:15 – 19:00 Uhr    Le
 rnzielkontrolle, Evaluation</p><p>                   ab 19:00 Uhr          
    Imbiss</p>Anmeldung über den GVB Tel: 05 31-612 86 62 Fax: 05 31-877 06 
 10<p>Fortbildungspunkte : 5<br />DMP: DM1 oder DM2: 1 Punkt<br />DMP KHK: 1
  Punkt</p>
X-EXTRAINFO:Frau Wagener, MSD
DTSTAMP:20260421T112219Z
DTSTART;TZID=Europe/Berlin:20140319T150000
DTEND;TZID=Europe/Berlin:20140319T200000
SEQUENCE:0
TRANSP:OPAQUE
END:VEVENT
END:VCALENDAR