BEGIN:VCALENDAR
VERSION:2.0
PRODID:-//jEvents 2.0 for Joomla//EN
CALSCALE:GREGORIAN
METHOD:PUBLISH
BEGIN:VTIMEZONE
TZID:Europe/Berlin
BEGIN:STANDARD
DTSTART:20120123T170000
RDATE:20120325T030000
TZOFFSETFROM:+0200
TZOFFSETTO:+0100
TZNAME:Europe/Berlin CET
END:STANDARD
BEGIN:STANDARD
DTSTART:20121028T020000
RDATE:20130331T030000
TZOFFSETFROM:+0200
TZOFFSETTO:+0100
TZNAME:Europe/Berlin CET
END:STANDARD
BEGIN:STANDARD
DTSTART:20131027T020000
RDATE:20140330T030000
TZOFFSETFROM:+0200
TZOFFSETTO:+0100
TZNAME:Europe/Berlin CET
END:STANDARD
BEGIN:STANDARD
DTSTART:20141026T020000
RDATE:20150329T030000
TZOFFSETFROM:+0200
TZOFFSETTO:+0100
TZNAME:Europe/Berlin CET
END:STANDARD
BEGIN:STANDARD
DTSTART:20151025T020000
RDATE:20160327T030000
TZOFFSETFROM:+0200
TZOFFSETTO:+0100
TZNAME:Europe/Berlin CET
END:STANDARD
BEGIN:STANDARD
DTSTART:20161030T020000
RDATE:20170326T030000
TZOFFSETFROM:+0200
TZOFFSETTO:+0100
TZNAME:Europe/Berlin CET
END:STANDARD
BEGIN:STANDARD
DTSTART:20171029T020000
RDATE:20180325T030000
TZOFFSETFROM:+0200
TZOFFSETTO:+0100
TZNAME:Europe/Berlin CET
END:STANDARD
BEGIN:STANDARD
DTSTART:20181028T020000
RDATE:20190331T030000
TZOFFSETFROM:+0200
TZOFFSETTO:+0100
TZNAME:Europe/Berlin CET
END:STANDARD
BEGIN:STANDARD
DTSTART:20191027T020000
RDATE:20200329T030000
TZOFFSETFROM:+0200
TZOFFSETTO:+0100
TZNAME:Europe/Berlin CET
END:STANDARD
BEGIN:STANDARD
DTSTART:20201025T020000
RDATE:20210328T030000
TZOFFSETFROM:+0200
TZOFFSETTO:+0100
TZNAME:Europe/Berlin CET
END:STANDARD
BEGIN:DAYLIGHT
DTSTART:20120325T030000
RDATE:20121028T020000
TZOFFSETFROM:+0100
TZOFFSETTO:+0200
TZNAME:Europe/Berlin CEST
END:DAYLIGHT
BEGIN:DAYLIGHT
DTSTART:20130331T030000
RDATE:20131027T020000
TZOFFSETFROM:+0100
TZOFFSETTO:+0200
TZNAME:Europe/Berlin CEST
END:DAYLIGHT
BEGIN:DAYLIGHT
DTSTART:20140330T030000
RDATE:20141026T020000
TZOFFSETFROM:+0100
TZOFFSETTO:+0200
TZNAME:Europe/Berlin CEST
END:DAYLIGHT
BEGIN:DAYLIGHT
DTSTART:20150329T030000
RDATE:20151025T020000
TZOFFSETFROM:+0100
TZOFFSETTO:+0200
TZNAME:Europe/Berlin CEST
END:DAYLIGHT
BEGIN:DAYLIGHT
DTSTART:20160327T030000
RDATE:20161030T020000
TZOFFSETFROM:+0100
TZOFFSETTO:+0200
TZNAME:Europe/Berlin CEST
END:DAYLIGHT
BEGIN:DAYLIGHT
DTSTART:20170326T030000
RDATE:20171029T020000
TZOFFSETFROM:+0100
TZOFFSETTO:+0200
TZNAME:Europe/Berlin CEST
END:DAYLIGHT
BEGIN:DAYLIGHT
DTSTART:20180325T030000
RDATE:20181028T020000
TZOFFSETFROM:+0100
TZOFFSETTO:+0200
TZNAME:Europe/Berlin CEST
END:DAYLIGHT
BEGIN:DAYLIGHT
DTSTART:20190331T030000
RDATE:20191027T020000
TZOFFSETFROM:+0100
TZOFFSETTO:+0200
TZNAME:Europe/Berlin CEST
END:DAYLIGHT
BEGIN:DAYLIGHT
DTSTART:20200329T030000
RDATE:20201025T020000
TZOFFSETFROM:+0100
TZOFFSETTO:+0200
TZNAME:Europe/Berlin CEST
END:DAYLIGHT
END:VTIMEZONE
BEGIN:VEVENT
UID:1b044edea55a2f8b11ba2ccf0b54edc0
CATEGORIES:Rauchfrei-Programm
SUMMARY:Kurs Rauchfrei nach IFT Salzgitter
LOCATION:Saldersche Straße 3, 38226 Salzgitter 
DESCRIPTION;ENCODING=QUOTED-PRINTABLE:Der Programmablauf \n\nDas Programm besteht aus drei bis sieben Kurstermine
 n in Gruppen mit bis zu 12 Teilnehmern und einer individuellen telefonische
 n Betreuung. Die Kursdurchführung erstreckt sich je nach Kursplanung über e
 inen Zeitraum von 3 bis 7 Wochen.\n\n\nIm ersten Abschnitt bereiten Sie sic
 h intensiv auf den Rauchstopp vor. Nach dem Rauchstopp wird im zweiten Absc
 hnitt des Kurses Ihre Abstinenz stabilisiert und Sie erhalten vom Trainer e
 ine individuelle telefonische Nachbetreuung. Außerdem erhalten Sie ein Begl
 eitheft, in dem Sie die Inhalte des Kurses nachlesen können.\n\n\nAnmeldung
  über unsere Mitgliedspraxen\n\n\nInformationen zum Programm\n\n\nVeranstal
 tungsort\n\n\n \nRaum derKatholischen Familienbildungsstätte, Saldersche St
 raße 3, neben St. Michael\n\n\n \n
DTSTAMP:20260420T082228Z
DTSTART;TZID=Europe/Berlin:20130123T170000
DTEND;TZID=Europe/Berlin:20130123T200000
SEQUENCE:0
RRULE:FREQ=WEEKLY;UNTIL=20130207T000000Z;INTERVAL=1;BYDAY=WE
TRANSP:OPAQUE
END:VEVENT
END:VCALENDAR